FILENAME: O4710631.NES.1112495.tif
QUADRANGLE_NAME: NELSON CREEK BAY
QUADRANT: NE
WEST_LONGITUDE: -106 11 15.00000
EAST_LONGITUDE: -106 7 30.00000
NORTH_LATITUDE: 47 37 30.00000
SOUTH_LATITUDE: 47 33 45.00000
PRODUCTION_DATE: 2000 11 14
RASTER_ORDER: LEFT_RIGHT/TOP_BOTTOM
BAND_ORGANIZATION: SINGLE FILE
BAND_CONTENT: BLACK&WHITE
BAND_CONTENT: UNDEFINED
BAND_CONTENT: UNDEFINED
BITS_PER_PIXEL: 8
SAMPLES_AND_LINES: 5449 7621
HORIZONTAL_DATUM: NAD83
HORIZONTAL_COORDINATE_SYSTEM: UTM
COORDINATE_ZONE: 13
HORIZONTAL_UNITS: METERS
HORIZONTAL_RESOLUTION: 1.00000
SECONDARY_HORIZONTAL_DATUM: NAD27
XY_ORIGIN: 410327.00000 5275607.00000
SECONDARY_XY_ORIGIN: 410367.81300 5275387.08500
NATION: US
NATION: "SCIENCE
STATE: MT
NW_QUAD_CORNER_XY: 410778.37100 5275304.99000
NE_QUAD_CORNER_XY: 415474.19100 5275234.97400
SE_QUAD_CORNERY_XY: 415373.47400 5268288.97200
SW_QUAD_CORNER_XY: 410672.05800 5268359.00100
SECONDARY_NW_QUAD_XY: 410775.58500 5275086.23500
SECONDARY_NE_QUAD_XY: 415471.55100 5275016.21700
SECONDARY_SE_QUAD_XY: 415370.83500 5268070.23500
SECONDARY_SW_QUAD_XY: 410669.27200 5268140.26700
RMSE_XY: 3.90000
IMAGE_SOURCE: BLACK AND WHITE FILM
SOURCE_IMAGE_ID: NAPP 9106 051
SOURCE_IMAGE_DATE: 1996 08 07
SOURCE_IMAGE_ID: NAPP 9106 049
SOURCE_IMAGE_DATE: 1996 08 07
SOURCE_IMAGE_ID: NAPP 9106 050
SOURCE_IMAGE_DATE: 1996 08 07
SOURCE_IMAGE_ID: NAPP 9106 052
SOURCE_IMAGE_DATE: 1996 08 07
SOURCE_DEM_DATE: 1993 00 00
AGENCY: WESTERN MAPPING CENTER (WMC)
PRODUCER: UNDEFINED
PRODUCTION_SYSTEM: GIS/MAGIC
COMPRESSION: UNDEFINED
STANDARD_VERSION: 1996 12
METADATA_DATE: 2000 11 16
DATA_FILE_SIZE: 41532278
BYTE_COUNT: 5449
