FILENAME: O4710630.NES.1112459.tif
QUADRANGLE_NAME: SHORT CREEK
QUADRANT: NE
WEST_LONGITUDE: -106 18 45.00000
EAST_LONGITUDE: -106 15 0.00000
NORTH_LATITUDE: 47 37 30.00000
SOUTH_LATITUDE: 47 33 45.00000
PRODUCTION_DATE: 2000 11 14
RASTER_ORDER: LEFT_RIGHT/TOP_BOTTOM
BAND_ORGANIZATION: SINGLE FILE
BAND_CONTENT: BLACK&WHITE
BAND_CONTENT: UNDEFINED
BAND_CONTENT: UNDEFINED
BITS_PER_PIXEL: 8
SAMPLES_AND_LINES: 5460 7628
HORIZONTAL_DATUM: NAD83
HORIZONTAL_COORDINATE_SYSTEM: UTM
COORDINATE_ZONE: 13
HORIZONTAL_UNITS: METERS
HORIZONTAL_RESOLUTION: 1.00000
SECONDARY_HORIZONTAL_DATUM: NAD27
XY_ORIGIN: 400924.00000 5275758.00000
SECONDARY_XY_ORIGIN: 400965.01400 5275538.01600
NATION: US
NATION: "SCIENCE
STATE: MT
NW_QUAD_CORNER_XY: 401386.76200 5275456.37900
NE_QUAD_CORNER_XY: 406082.56200 5275378.79100
SE_QUAD_CORNERY_XY: 405970.65100 5268432.81700
SW_QUAD_CORNER_XY: 401269.25500 5268510.42000
SECONDARY_NW_QUAD_XY: 401383.68300 5275237.62800
SECONDARY_NE_QUAD_XY: 406079.62900 5275160.03900
SECONDARY_SE_QUAD_XY: 405967.71900 5268214.08500
SECONDARY_SW_QUAD_XY: 401266.17600 5268291.69000
RMSE_XY: 2.50000
IMAGE_SOURCE: BLACK AND WHITE FILM
SOURCE_IMAGE_ID: NAPP 9106 158
SOURCE_IMAGE_DATE: 1996 08 07
SOURCE_IMAGE_ID: NAPP 9106 168
SOURCE_IMAGE_DATE: 1996 08 07
SOURCE_DEM_DATE: 1971 00 00
AGENCY: WESTERN MAPPING CENTER (WMC)
PRODUCER: UNDEFINED
PRODUCTION_SYSTEM: GIS/MAGIC
COMPRESSION: UNDEFINED
STANDARD_VERSION: 1996 12
METADATA_DATE: 2000 11 16
DATA_FILE_SIZE: 41654340
BYTE_COUNT: 5460
