FILENAME: O4710630.SWS.1112462.tif
QUADRANGLE_NAME: SHORT CREEK
QUADRANT: SW
WEST_LONGITUDE: -106 22 30.00000
EAST_LONGITUDE: -106 18 45.00000
NORTH_LATITUDE: 47 33 45.00000
SOUTH_LATITUDE: 47 30 0.00000
PRODUCTION_DATE: 2000 11 13
RASTER_ORDER: LEFT_RIGHT/TOP_BOTTOM
BAND_ORGANIZATION: SINGLE FILE
BAND_CONTENT: BLACK&WHITE
BAND_CONTENT: UNDEFINED
BAND_CONTENT: UNDEFINED
BITS_PER_PIXEL: 8
SAMPLES_AND_LINES: 5472 7631
HORIZONTAL_DATUM: NAD83
HORIZONTAL_COORDINATE_SYSTEM: UTM
COORDINATE_ZONE: 13
HORIZONTAL_UNITS: METERS
HORIZONTAL_RESOLUTION: 1.00000
SECONDARY_HORIZONTAL_DATUM: NAD27
XY_ORIGIN: 396099.00000 5268893.00000
SECONDARY_XY_ORIGIN: 396140.24600 5268673.18900
NATION: US
NATION: "SCIENCE
STATE: MT
NW_QUAD_CORNER_XY: 396567.86800 5268591.80900
NE_QUAD_CORNER_XY: 401269.25500 5268510.42000
SE_QUAD_CORNERY_XY: 401151.86500 5261564.53300
SW_QUAD_CORNER_XY: 396444.88700 5261645.93700
SECONDARY_NW_QUAD_XY: 396564.64300 5268373.08100
SECONDARY_NE_QUAD_XY: 401266.17600 5268291.69000
SECONDARY_SE_QUAD_XY: 401148.78700 5261345.82400
SECONDARY_SW_QUAD_XY: 396441.66200 5261427.23100
RMSE_XY: 1.40000
IMAGE_SOURCE: BLACK AND WHITE FILM
SOURCE_IMAGE_ID: NAPP 9106 171
SOURCE_IMAGE_DATE: 1996 08 07
SOURCE_IMAGE_ID: NAPP 9109 168
SOURCE_IMAGE_DATE: 1996 08 11
SOURCE_IMAGE_ID: NAPP 9121 009
SOURCE_IMAGE_DATE: 1996 09 06
SOURCE_DEM_DATE: 1971 00 00
AGENCY: WESTERN MAPPING CENTER (WMC)
PRODUCER: UNDEFINED
PRODUCTION_SYSTEM: GIS/MAGIC
COMPRESSION: UNDEFINED
STANDARD_VERSION: 1996 12
METADATA_DATE: 2000 11 16
DATA_FILE_SIZE: 41762304
BYTE_COUNT: 5472
