FILENAME: O4710628.NWS.1112380.tif
QUADRANGLE_NAME: GILBERT CREEK SE
QUADRANT: NW
WEST_LONGITUDE: -106 37 30.00000
EAST_LONGITUDE: -106 33 45.00000
NORTH_LATITUDE: 47 37 30.00000
SOUTH_LATITUDE: 47 33 45.00000
PRODUCTION_DATE: 2000 11 14
RASTER_ORDER: LEFT_RIGHT/TOP_BOTTOM
BAND_ORGANIZATION: SINGLE FILE
BAND_CONTENT: BLACK&WHITE
BAND_CONTENT: UNDEFINED
BAND_CONTENT: UNDEFINED
BITS_PER_PIXEL: 8
SAMPLES_AND_LINES: 5490 7647
HORIZONTAL_DATUM: NAD83
HORIZONTAL_COORDINATE_SYSTEM: UTM
COORDINATE_ZONE: 13
HORIZONTAL_UNITS: METERS
HORIZONTAL_RESOLUTION: 1.00000
SECONDARY_HORIZONTAL_DATUM: NAD27
XY_ORIGIN: 377415.00000 5276203.00000
SECONDARY_XY_ORIGIN: 377456.78200 5275982.67100
NATION: US
NATION: "SCIENCE
STATE: MT
NW_QUAD_CORNER_XY: 377907.93400 5275901.10800
NE_QUAD_CORNER_XY: 382603.67500 5275804.58900
SE_QUAD_CORNERY_XY: 382463.77600 5268858.69800
SW_QUAD_CORNER_XY: 377762.43600 5268955.23500
SECONDARY_NW_QUAD_XY: 377904.12100 5275682.37100
SECONDARY_NE_QUAD_XY: 382600.00900 5275585.84900
SECONDARY_SE_QUAD_XY: 382460.11100 5268639.97900
SECONDARY_SW_QUAD_XY: 377758.62400 5268736.51900
RMSE_XY: 1.10000
IMAGE_SOURCE: BLACK AND WHITE FILM
SOURCE_IMAGE_ID: NAPP 9110 186
SOURCE_IMAGE_DATE: 1996 08 11
SOURCE_IMAGE_ID: NAPP 9110 185
SOURCE_IMAGE_DATE: 1996 08 11
SOURCE_DEM_DATE: 1993 00 00
AGENCY: WESTERN MAPPING CENTER (WMC)
PRODUCER: UNDEFINED
PRODUCTION_SYSTEM: GIS/MAGIC
COMPRESSION: UNDEFINED
STANDARD_VERSION: 1996 12
METADATA_DATE: 2000 11 16
DATA_FILE_SIZE: 41987520
BYTE_COUNT: 5490
