FILENAME: O4710628.SES.1112381.tif
QUADRANGLE_NAME: GILBERT CREEK SE
QUADRANT: SE
WEST_LONGITUDE: -106 33 45.00000
EAST_LONGITUDE: -106 30 0.00000
NORTH_LATITUDE: 47 33 45.00000
SOUTH_LATITUDE: 47 30 0.00000
PRODUCTION_DATE: 2000 11 15
RASTER_ORDER: LEFT_RIGHT/TOP_BOTTOM
BAND_ORGANIZATION: SINGLE FILE
BAND_CONTENT: BLACK&WHITE
BAND_CONTENT: UNDEFINED
BAND_CONTENT: UNDEFINED
BITS_PER_PIXEL: 8
SAMPLES_AND_LINES: 5490 7642
HORIZONTAL_DATUM: NAD83
HORIZONTAL_COORDINATE_SYSTEM: UTM
COORDINATE_ZONE: 13
HORIZONTAL_UNITS: METERS
HORIZONTAL_RESOLUTION: 1.00000
SECONDARY_HORIZONTAL_DATUM: NAD27
XY_ORIGIN: 381977.00000 5269160.00000
SECONDARY_XY_ORIGIN: 382018.66300 5268939.96600
NATION: US
NATION: "SCIENCE
STATE: MT
NW_QUAD_CORNER_XY: 382463.77600 5268858.69800
NE_QUAD_CORNER_XY: 387165.12900 5268765.94800
SE_QUAD_CORNERY_XY: 387030.96300 5261820.11000
SW_QUAD_CORNER_XY: 382324.01800 5261912.87700
SECONDARY_NW_QUAD_XY: 382460.11100 5268639.97900
SECONDARY_NE_QUAD_XY: 387161.61000 5268547.22600
SECONDARY_SE_QUAD_XY: 387027.44500 5261601.40900
SECONDARY_SW_QUAD_XY: 382320.35300 5261694.18000
RMSE_XY: 1.50000
IMAGE_SOURCE: BLACK AND WHITE FILM
SOURCE_IMAGE_ID: NAPP 9110 091
SOURCE_IMAGE_DATE: 1996 08 11
SOURCE_IMAGE_ID: NAPP 9110 092
SOURCE_IMAGE_DATE: 1996 08 11
SOURCE_DEM_DATE: 1993 00 00
AGENCY: WESTERN MAPPING CENTER (WMC)
PRODUCER: UNDEFINED
PRODUCTION_SYSTEM: GIS/MAGIC
COMPRESSION: UNDEFINED
STANDARD_VERSION: 1996 12
METADATA_DATE: 2000 11 16
DATA_FILE_SIZE: 41960070
BYTE_COUNT: 5490
