FILENAME: O4710627.SWS.1112325.tif
QUADRANGLE_NAME: KESTER SCHOOL
QUADRANT: SW
WEST_LONGITUDE: -106 45 0.00000
EAST_LONGITUDE: -106 41 15.00000
NORTH_LATITUDE: 47 33 45.00000
SOUTH_LATITUDE: 47 30 0.00000
PRODUCTION_DATE: 2000 11 13
RASTER_ORDER: LEFT_RIGHT/TOP_BOTTOM
BAND_ORGANIZATION: SINGLE FILE
BAND_CONTENT: BLACK&WHITE
BAND_CONTENT: UNDEFINED
BAND_CONTENT: UNDEFINED
BITS_PER_PIXEL: 8
SAMPLES_AND_LINES: 5508 7655
HORIZONTAL_DATUM: NAD83
HORIZONTAL_COORDINATE_SYSTEM: UTM
COORDINATE_ZONE: 13
HORIZONTAL_UNITS: METERS
HORIZONTAL_RESOLUTION: 1.00000
SECONDARY_HORIZONTAL_DATUM: NAD27
XY_ORIGIN: 367855.00000 5269462.00000
SECONDARY_XY_ORIGIN: 367897.18200 5269241.75200
NATION: US
NATION: "SCIENCE
STATE: MT
NW_QUAD_CORNER_XY: 368359.79600 5269159.67400
NE_QUAD_CORNER_XY: 373061.10900 5269055.56100
SE_QUAD_CORNERY_XY: 372910.16500 5262109.77800
SW_QUAD_CORNER_XY: 368203.25800 5262213.91000
SECONDARY_NW_QUAD_XY: 368355.69000 5268940.96400
SECONDARY_NE_QUAD_XY: 373057.15100 5268836.84800
SECONDARY_SE_QUAD_XY: 372906.20700 5261891.08600
SECONDARY_SW_QUAD_XY: 368199.15300 5261995.22200
RMSE_XY: 2.80000
IMAGE_SOURCE: BLACK AND WHITE FILM
SOURCE_IMAGE_ID: NAPP 9111 206
SOURCE_IMAGE_DATE: 1996 08 11
SOURCE_DEM_DATE: 1993 00 00
AGENCY: WESTERN MAPPING CENTER (WMC)
PRODUCER: UNDEFINED
PRODUCTION_SYSTEM: GIS/MAGIC
COMPRESSION: UNDEFINED
STANDARD_VERSION: 1996 12
METADATA_DATE: 2000 11 16
DATA_FILE_SIZE: 42169248
BYTE_COUNT: 5508
