FILENAME: O4710625.NWS.1112243.tif
QUADRANGLE_NAME: MALONEY HILL
QUADRANT: NW
WEST_LONGITUDE: -107 0 0.00000
EAST_LONGITUDE: -106 56 15.00000
NORTH_LATITUDE: 47 37 30.00000
SOUTH_LATITUDE: 47 33 45.00000
PRODUCTION_DATE: 2000 11 16
RASTER_ORDER: LEFT_RIGHT/TOP_BOTTOM
BAND_ORGANIZATION: SINGLE FILE
BAND_CONTENT: BLACK&WHITE
BAND_CONTENT: UNDEFINED
BAND_CONTENT: UNDEFINED
BITS_PER_PIXEL: 8
SAMPLES_AND_LINES: 5525 7670
HORIZONTAL_DATUM: NAD83
HORIZONTAL_COORDINATE_SYSTEM: UTM
COORDINATE_ZONE: 13
HORIZONTAL_UNITS: METERS
HORIZONTAL_RESOLUTION: 1.00000
SECONDARY_HORIZONTAL_DATUM: NAD27
XY_ORIGIN: 349206.00000 5276862.00000
SECONDARY_XY_ORIGIN: 349248.65900 5276641.33500
NATION: US
NATION: "SCIENCE
STATE: MT
NW_QUAD_CORNER_XY: 349733.78000 5276559.75100
NE_QUAD_CORNER_XY: 354429.43400 5276440.50800
SE_QUAD_CORNERY_XY: 354255.94000 5269494.74100
SW_QUAD_CORNER_XY: 349554.68400 5269614.00800
SECONDARY_NW_QUAD_XY: 349729.08700 5276341.03500
SECONDARY_NE_QUAD_XY: 354424.88900 5276221.78900
SECONDARY_SE_QUAD_XY: 354251.39400 5269276.04200
SECONDARY_SW_QUAD_XY: 349549.99200 5269395.31200
RMSE_XY: 1.70000
IMAGE_SOURCE: BLACK AND WHITE FILM
SOURCE_IMAGE_ID: NAPP 9101 017
SOURCE_IMAGE_DATE: 1996 07 15
SOURCE_IMAGE_ID: NAPP 9101 109
SOURCE_IMAGE_DATE: 1996 07 15
SOURCE_IMAGE_ID: NAPP 9101 016
SOURCE_IMAGE_DATE: 1996 07 15
SOURCE_IMAGE_ID: NAPP 9101 018
SOURCE_IMAGE_DATE: 1996 07 15
SOURCE_DEM_DATE: 1993 00 00
AGENCY: WESTERN MAPPING CENTER (WMC)
PRODUCER: UNDEFINED
PRODUCTION_SYSTEM: GIS/MAGIC
COMPRESSION: UNDEFINED
STANDARD_VERSION: 1996 12
METADATA_DATE: 2000 11 17
DATA_FILE_SIZE: 42382275
BYTE_COUNT: 5525
