FILENAME: O4710623.SES.1112493.tif
QUADRANGLE_NAME: BUG CREEK
QUADRANT: SE
WEST_LONGITUDE: -106 11 15.00000
EAST_LONGITUDE: -106 7 30.00000
NORTH_LATITUDE: 47 41 15.00000
SOUTH_LATITUDE: 47 37 30.00000
PRODUCTION_DATE: 2000 11 16
RASTER_ORDER: LEFT_RIGHT/TOP_BOTTOM
BAND_ORGANIZATION: SINGLE FILE
BAND_CONTENT: BLACK&WHITE
BAND_CONTENT: UNDEFINED
BAND_CONTENT: UNDEFINED
BITS_PER_PIXEL: 8
SAMPLES_AND_LINES: 5444 7621
HORIZONTAL_DATUM: NAD83
HORIZONTAL_COORDINATE_SYSTEM: UTM
COORDINATE_ZONE: 13
HORIZONTAL_UNITS: METERS
HORIZONTAL_RESOLUTION: 1.00000
SECONDARY_HORIZONTAL_DATUM: NAD27
XY_ORIGIN: 410433.00000 5282553.00000
SECONDARY_XY_ORIGIN: 410473.68900 5282332.85200
NATION: US
NATION: "SCIENCE
STATE: MT
NW_QUAD_CORNER_XY: 410884.79200 5282251.05100
NE_QUAD_CORNER_XY: 415575.00900 5282181.04900
SE_QUAD_CORNERY_XY: 415474.19100 5275234.97400
SW_QUAD_CORNER_XY: 410778.37100 5275304.99000
SECONDARY_NW_QUAD_XY: 410882.00600 5282032.27600
SECONDARY_NE_QUAD_XY: 415572.36900 5281962.27200
SECONDARY_SE_QUAD_XY: 415471.55100 5275016.21700
SECONDARY_SW_QUAD_XY: 410775.58500 5275086.23500
RMSE_XY: 2.00000
IMAGE_SOURCE: BLACK AND WHITE FILM
SOURCE_IMAGE_ID: NAPP 9106 053
SOURCE_IMAGE_DATE: 1996 08 07
SOURCE_IMAGE_ID: NAPP 9106 052
SOURCE_IMAGE_DATE: 1996 08 07
SOURCE_IMAGE_ID: NAPP 9106 054
SOURCE_IMAGE_DATE: 1996 08 07
SOURCE_DEM_DATE: 1993 00 00
AGENCY: WESTERN MAPPING CENTER (WMC)
PRODUCER: UNDEFINED
PRODUCTION_SYSTEM: GIS/MAGIC
COMPRESSION: UNDEFINED
STANDARD_VERSION: 1996 12
METADATA_DATE: 2000 11 16
DATA_FILE_SIZE: 41494168
BYTE_COUNT: 5444
