FILENAME: O4710622.NWS.1112456.tif
QUADRANGLE_NAME: ASH CREEK EAST
QUADRANT: NW
WEST_LONGITUDE: -106 22 30.00000
EAST_LONGITUDE: -106 18 45.00000
NORTH_LATITUDE: 47 45 0.00000
SOUTH_LATITUDE: 47 41 15.00000
PRODUCTION_DATE: 2000 11 15
RASTER_ORDER: LEFT_RIGHT/TOP_BOTTOM
BAND_ORGANIZATION: SINGLE FILE
BAND_CONTENT: BLACK&WHITE
BAND_CONTENT: UNDEFINED
BAND_CONTENT: UNDEFINED
BITS_PER_PIXEL: 8
SAMPLES_AND_LINES: 5456 7632
HORIZONTAL_DATUM: NAD83
HORIZONTAL_COORDINATE_SYSTEM: UTM
COORDINATE_ZONE: 13
HORIZONTAL_UNITS: METERS
HORIZONTAL_RESOLUTION: 1.00000
SECONDARY_HORIZONTAL_DATUM: NAD27
XY_ORIGIN: 396468.00000 5289732.00000
SECONDARY_XY_ORIGIN: 396508.94400 5289511.45500
NATION: US
NATION: "SCIENCE
STATE: MT
NW_QUAD_CORNER_XY: 396937.55500 5289429.85300
NE_QUAD_CORNER_XY: 401622.13200 5289348.51300
SE_QUAD_CORNERY_XY: 401504.38800 5282402.41000
SW_QUAD_CORNER_XY: 396814.20200 5282483.76600
SECONDARY_NW_QUAD_XY: 396934.32800 5289211.06700
SECONDARY_NE_QUAD_XY: 401619.05200 5289129.72400
SECONDARY_SE_QUAD_XY: 401501.30800 5282183.64000
SECONDARY_SW_QUAD_XY: 396810.97600 5282264.99900
RMSE_XY: 1.60000
IMAGE_SOURCE: BLACK AND WHITE FILM
SOURCE_IMAGE_ID: NAPP 9106 165
SOURCE_IMAGE_DATE: 1996 08 07
SOURCE_DEM_DATE: 1971 00 00
AGENCY: WESTERN MAPPING CENTER (WMC)
PRODUCER: UNDEFINED
PRODUCTION_SYSTEM: GIS/MAGIC
COMPRESSION: UNDEFINED
STANDARD_VERSION: 1996 12
METADATA_DATE: 2000 11 16
DATA_FILE_SIZE: 41645648
BYTE_COUNT: 5456
