FILENAME: O4710621.NWS.1112412.tif
QUADRANGLE_NAME: ASH CREEK WEST
QUADRANT: NW
WEST_LONGITUDE: -106 30 0.00000
EAST_LONGITUDE: -106 26 15.00000
NORTH_LATITUDE: 47 45 0.00000
SOUTH_LATITUDE: 47 41 15.00000
PRODUCTION_DATE: 2000 11 15
RASTER_ORDER: LEFT_RIGHT/TOP_BOTTOM
BAND_ORGANIZATION: SINGLE FILE
BAND_CONTENT: BLACK&WHITE
BAND_CONTENT: UNDEFINED
BAND_CONTENT: UNDEFINED
BITS_PER_PIXEL: 8
SAMPLES_AND_LINES: 5466 7640
HORIZONTAL_DATUM: NAD83
HORIZONTAL_COORDINATE_SYSTEM: UTM
COORDINATE_ZONE: 13
HORIZONTAL_UNITS: METERS
HORIZONTAL_RESOLUTION: 1.00000
SECONDARY_HORIZONTAL_DATUM: NAD27
XY_ORIGIN: 387088.00000 5289906.00000
SECONDARY_XY_ORIGIN: 387129.25400 5289685.31900
NATION: US
NATION: "SCIENCE
STATE: MT
NW_QUAD_CORNER_XY: 387568.43600 5289603.88700
NE_QUAD_CORNER_XY: 392252.98900 5289514.97800
SE_QUAD_CORNERY_XY: 392124.02800 5282568.90900
SW_QUAD_CORNER_XY: 387433.86500 5282657.83700
SECONDARY_NW_QUAD_XY: 387564.91600 5289385.10700
SECONDARY_NE_QUAD_XY: 392249.61600 5289296.19500
SECONDARY_SE_QUAD_XY: 392120.65500 5282350.14400
SECONDARY_SW_QUAD_XY: 387430.34600 5282439.07500
RMSE_XY: 1.30000
IMAGE_SOURCE: BLACK AND WHITE FILM
SOURCE_IMAGE_ID: NAPP 9109 136
SOURCE_IMAGE_DATE: 1996 08 11
SOURCE_IMAGE_ID: NAPP 9110 098
SOURCE_IMAGE_DATE: 1996 08 11
SOURCE_IMAGE_ID: NAPP 9109 135
SOURCE_IMAGE_DATE: 1996 08 11
SOURCE_DEM_DATE: 1971 00 00
AGENCY: WESTERN MAPPING CENTER (WMC)
PRODUCER: UNDEFINED
PRODUCTION_SYSTEM: GIS/MAGIC
COMPRESSION: UNDEFINED
STANDARD_VERSION: 1996 12
METADATA_DATE: 2000 11 16
DATA_FILE_SIZE: 41765706
BYTE_COUNT: 5466
