FILENAME: O4710620.NWS.1112376.tif
QUADRANGLE_NAME: GILBERT CREEK
QUADRANT: NW
WEST_LONGITUDE: -106 37 30.00000
EAST_LONGITUDE: -106 33 45.00000
NORTH_LATITUDE: 47 45 0.00000
SOUTH_LATITUDE: 47 41 15.00000
PRODUCTION_DATE: 2000 11 15
RASTER_ORDER: LEFT_RIGHT/TOP_BOTTOM
BAND_ORGANIZATION: SINGLE FILE
BAND_CONTENT: BLACK&WHITE
BAND_CONTENT: UNDEFINED
BAND_CONTENT: UNDEFINED
BITS_PER_PIXEL: 8
SAMPLES_AND_LINES: 5478 7648
HORIZONTAL_DATUM: NAD83
HORIZONTAL_COORDINATE_SYSTEM: UTM
COORDINATE_ZONE: 13
HORIZONTAL_UNITS: METERS
HORIZONTAL_RESOLUTION: 1.00000
SECONDARY_HORIZONTAL_DATUM: NAD27
XY_ORIGIN: 377707.00000 5290096.00000
SECONDARY_XY_ORIGIN: 377748.67400 5289875.22500
NATION: US
NATION: "SCIENCE
STATE: MT
NW_QUAD_CORNER_XY: 378199.36800 5289793.06200
NE_QUAD_CORNER_XY: 382883.89500 5289696.58200
SE_QUAD_CORNERY_XY: 382743.71500 5282750.55000
SW_QUAD_CORNER_XY: 378053.57800 5282847.05000
SECONDARY_NW_QUAD_XY: 378195.55400 5289574.28700
SECONDARY_NE_QUAD_XY: 382880.22800 5289477.80400
SECONDARY_SE_QUAD_XY: 382740.04900 5282531.79100
SECONDARY_SW_QUAD_XY: 378049.76500 5282628.29400
RMSE_XY: 0.80000
IMAGE_SOURCE: BLACK AND WHITE FILM
SOURCE_IMAGE_ID: NAPP 9110 182
SOURCE_IMAGE_DATE: 1996 08 11
SOURCE_IMAGE_ID: NAPP 9111 114
SOURCE_IMAGE_DATE: 1996 08 11
SOURCE_IMAGE_ID: NAPP 9111 116
SOURCE_IMAGE_DATE: 1996 08 11
SOURCE_IMAGE_ID: NAPP 9110 183
SOURCE_IMAGE_DATE: 1996 08 11
SOURCE_IMAGE_ID: NAPP 9110 181
SOURCE_IMAGE_DATE: 1996 08 11
SOURCE_DEM_DATE: 1971 00 00
AGENCY: WESTERN MAPPING CENTER (WMC)
PRODUCER: UNDEFINED
PRODUCTION_SYSTEM: GIS/MAGIC
COMPRESSION: UNDEFINED
STANDARD_VERSION: 1996 12
METADATA_DATE: 2000 11 16
DATA_FILE_SIZE: 41901222
BYTE_COUNT: 5478
