FILENAME: O4710619.NES.1112318.tif
QUADRANGLE_NAME: SIGNAL BUTTE
QUADRANT: NE
WEST_LONGITUDE: -106 41 15.00000
EAST_LONGITUDE: -106 37 30.00000
NORTH_LATITUDE: 47 45 0.00000
SOUTH_LATITUDE: 47 41 15.00000
PRODUCTION_DATE: 2000 11 14
RASTER_ORDER: LEFT_RIGHT/TOP_BOTTOM
BAND_ORGANIZATION: SINGLE FILE
BAND_CONTENT: BLACK&WHITE
BAND_CONTENT: UNDEFINED
BAND_CONTENT: UNDEFINED
BITS_PER_PIXEL: 8
SAMPLES_AND_LINES: 5485 7651
HORIZONTAL_DATUM: NAD83
HORIZONTAL_COORDINATE_SYSTEM: UTM
COORDINATE_ZONE: 13
HORIZONTAL_UNITS: METERS
HORIZONTAL_RESOLUTION: 1.00000
SECONDARY_HORIZONTAL_DATUM: NAD27
XY_ORIGIN: 373016.00000 5290196.00000
SECONDARY_XY_ORIGIN: 373057.88200 5289975.17700
NATION: US
NATION: "SCIENCE
STATE: MT
NW_QUAD_CORNER_XY: 373514.85400 5289893.32600
NE_QUAD_CORNER_XY: 378199.36800 5289793.06200
SE_QUAD_CORNERY_XY: 378053.57800 5282847.05000
SW_QUAD_CORNER_XY: 373363.45400 5282947.33500
SECONDARY_NW_QUAD_XY: 373510.89400 5289674.55500
SECONDARY_NE_QUAD_XY: 378195.55400 5289574.28700
SECONDARY_SE_QUAD_XY: 378049.76500 5282628.29400
SECONDARY_SW_QUAD_XY: 373359.49400 5282728.58200
RMSE_XY: 0.90000
IMAGE_SOURCE: BLACK AND WHITE FILM
SOURCE_IMAGE_ID: NAPP 9111 115
SOURCE_IMAGE_DATE: 1996 08 11
SOURCE_IMAGE_ID: NAPP 9111 114
SOURCE_IMAGE_DATE: 1996 08 11
SOURCE_IMAGE_ID: NAPP 9111 116
SOURCE_IMAGE_DATE: 1996 08 11
SOURCE_DEM_DATE: 1971 00 00
AGENCY: WESTERN MAPPING CENTER (WMC)
PRODUCER: UNDEFINED
PRODUCTION_SYSTEM: GIS/MAGIC
COMPRESSION: UNDEFINED
STANDARD_VERSION: 1996 12
METADATA_DATE: 2000 11 16
DATA_FILE_SIZE: 41971220
BYTE_COUNT: 5485
