FILENAME: O4710619.SES.1112320.tif
QUADRANGLE_NAME: SIGNAL BUTTE
QUADRANT: SE
WEST_LONGITUDE: -106 41 15.00000
EAST_LONGITUDE: -106 37 30.00000
NORTH_LATITUDE: 47 41 15.00000
SOUTH_LATITUDE: 47 37 30.00000
PRODUCTION_DATE: 2000 11 14
RASTER_ORDER: LEFT_RIGHT/TOP_BOTTOM
BAND_ORGANIZATION: SINGLE FILE
BAND_CONTENT: BLACK&WHITE
BAND_CONTENT: UNDEFINED
BAND_CONTENT: UNDEFINED
BITS_PER_PIXEL: 8
SAMPLES_AND_LINES: 5490 7651
HORIZONTAL_DATUM: NAD83
HORIZONTAL_COORDINATE_SYSTEM: UTM
COORDINATE_ZONE: 13
HORIZONTAL_UNITS: METERS
HORIZONTAL_RESOLUTION: 1.00000
SECONDARY_HORIZONTAL_DATUM: NAD27
XY_ORIGIN: 372865.00000 5283250.00000
SECONDARY_XY_ORIGIN: 372906.92500 5283029.39200
NATION: US
NATION: "SCIENCE
STATE: MT
NW_QUAD_CORNER_XY: 373363.45400 5282947.33500
NE_QUAD_CORNER_XY: 378053.57800 5282847.05000
SE_QUAD_CORNERY_XY: 377907.93400 5275901.10800
SW_QUAD_CORNER_XY: 373212.20600 5276001.41300
SECONDARY_NW_QUAD_XY: 373359.49400 5282728.58200
SECONDARY_NE_QUAD_XY: 378049.76500 5282628.29400
SECONDARY_SE_QUAD_XY: 377904.12100 5275682.37100
SECONDARY_SW_QUAD_XY: 373208.24600 5275782.68000
RMSE_XY: 1.50000
IMAGE_SOURCE: BLACK AND WHITE FILM
SOURCE_IMAGE_ID: NAPP 9111 113
SOURCE_IMAGE_DATE: 1996 08 11
SOURCE_IMAGE_ID: NAPP 9111 114
SOURCE_IMAGE_DATE: 1996 08 11
SOURCE_DEM_DATE: 1971 00 00
AGENCY: WESTERN MAPPING CENTER (WMC)
PRODUCER: UNDEFINED
PRODUCTION_SYSTEM: GIS/MAGIC
COMPRESSION: UNDEFINED
STANDARD_VERSION: 1996 12
METADATA_DATE: 2000 11 16
DATA_FILE_SIZE: 42009480
BYTE_COUNT: 5490
