FILENAME: O4710619.SWS.1112321.tif
QUADRANGLE_NAME: SIGNAL BUTTE
QUADRANT: SW
WEST_LONGITUDE: -106 45 0.00000
EAST_LONGITUDE: -106 41 15.00000
NORTH_LATITUDE: 47 41 15.00000
SOUTH_LATITUDE: 47 37 30.00000
PRODUCTION_DATE: 2000 11 14
RASTER_ORDER: LEFT_RIGHT/TOP_BOTTOM
BAND_ORGANIZATION: SINGLE FILE
BAND_CONTENT: BLACK&WHITE
BAND_CONTENT: UNDEFINED
BAND_CONTENT: UNDEFINED
BITS_PER_PIXEL: 8
SAMPLES_AND_LINES: 5496 7655
HORIZONTAL_DATUM: NAD83
HORIZONTAL_COORDINATE_SYSTEM: UTM
COORDINATE_ZONE: 13
HORIZONTAL_UNITS: METERS
HORIZONTAL_RESOLUTION: 1.00000
SECONDARY_HORIZONTAL_DATUM: NAD27
XY_ORIGIN: 368169.00000 5283354.00000
SECONDARY_XY_ORIGIN: 368211.12100 5283133.33500
NATION: US
NATION: "SCIENCE
STATE: MT
NW_QUAD_CORNER_XY: 368673.34400 5283051.40700
NE_QUAD_CORNER_XY: 373363.45400 5282947.33500
SE_QUAD_CORNERY_XY: 373212.20600 5276001.41300
SW_QUAD_CORNER_XY: 368516.49100 5276105.50600
SECONDARY_NW_QUAD_XY: 368669.23800 5282832.65700
SECONDARY_NE_QUAD_XY: 373359.49400 5282728.58200
SECONDARY_SE_QUAD_XY: 373208.24600 5275782.68000
SECONDARY_SW_QUAD_XY: 368512.38500 5275886.77600
RMSE_XY: 1.40000
IMAGE_SOURCE: BLACK AND WHITE FILM
SOURCE_IMAGE_ID: NAPP 9111 202
SOURCE_IMAGE_DATE: 1996 08 11
SOURCE_DEM_DATE: 1971 00 00
AGENCY: WESTERN MAPPING CENTER (WMC)
PRODUCER: UNDEFINED
PRODUCTION_SYSTEM: GIS/MAGIC
COMPRESSION: UNDEFINED
STANDARD_VERSION: 1996 12
METADATA_DATE: 2000 11 16
DATA_FILE_SIZE: 42077376
BYTE_COUNT: 5496
