FILENAME: O4710618.SES.1112300.tif
QUADRANGLE_NAME: LITTLE BUFFALO HILL
QUADRANT: SE
WEST_LONGITUDE: -106 48 45.00000
EAST_LONGITUDE: -106 45 0.00000
NORTH_LATITUDE: 47 41 15.00000
SOUTH_LATITUDE: 47 37 30.00000
PRODUCTION_DATE: 2000 11 14
RASTER_ORDER: LEFT_RIGHT/TOP_BOTTOM
BAND_ORGANIZATION: SINGLE FILE
BAND_CONTENT: BLACK&WHITE
BAND_CONTENT: UNDEFINED
BAND_CONTENT: UNDEFINED
BITS_PER_PIXEL: 8
SAMPLES_AND_LINES: 5502 7659
HORIZONTAL_DATUM: NAD83
HORIZONTAL_COORDINATE_SYSTEM: UTM
COORDINATE_ZONE: 13
HORIZONTAL_UNITS: METERS
HORIZONTAL_RESOLUTION: 1.00000
SECONDARY_HORIZONTAL_DATUM: NAD27
XY_ORIGIN: 363473.00000 5283462.00000
SECONDARY_XY_ORIGIN: 363515.24500 5283241.29500
NATION: US
NATION: "SCIENCE
STATE: MT
NW_QUAD_CORNER_XY: 363983.24900 5283159.26500
NE_QUAD_CORNER_XY: 368673.34400 5283051.40700
SE_QUAD_CORNERY_XY: 368516.49100 5276105.50600
SW_QUAD_CORNER_XY: 363820.79100 5276213.38600
SECONDARY_NW_QUAD_XY: 363978.99600 5282940.51900
SECONDARY_NE_QUAD_XY: 368669.23800 5282832.65700
SECONDARY_SE_QUAD_XY: 368512.38500 5275886.77600
SECONDARY_SW_QUAD_XY: 363816.53800 5275994.65900
RMSE_XY: 1.80000
IMAGE_SOURCE: BLACK AND WHITE FILM
SOURCE_IMAGE_ID: NAPP 9109 049
SOURCE_IMAGE_DATE: 1996 08 11
SOURCE_IMAGE_ID: NAPP 10723 047
SOURCE_IMAGE_DATE: 1997 08 28
SOURCE_IMAGE_ID: NAPP 10723 049
SOURCE_IMAGE_DATE: 1997 08 28
SOURCE_IMAGE_ID: NAPP 9109 048
SOURCE_IMAGE_DATE: 1996 08 11
SOURCE_IMAGE_ID: NAPP 9109 050
SOURCE_IMAGE_DATE: 1996 08 11
SOURCE_DEM_DATE: 1982 00 00
AGENCY: WESTERN MAPPING CENTER (WMC)
PRODUCER: UNDEFINED
PRODUCTION_SYSTEM: GIS/MAGIC
COMPRESSION: UNDEFINED
STANDARD_VERSION: 1996 12
METADATA_DATE: 2000 11 17
DATA_FILE_SIZE: 42145320
BYTE_COUNT: 5502
