FILENAME: O4710614.NWS.1112452.tif
QUADRANGLE_NAME: SPRING CREEK BAY
QUADRANT: NW
WEST_LONGITUDE: -106 22 30.00000
EAST_LONGITUDE: -106 18 45.00000
NORTH_LATITUDE: 47 52 30.00000
SOUTH_LATITUDE: 47 48 45.00000
PRODUCTION_DATE: 2000 11 15
RASTER_ORDER: LEFT_RIGHT/TOP_BOTTOM
BAND_ORGANIZATION: SINGLE FILE
BAND_CONTENT: BLACK&WHITE
BAND_CONTENT: UNDEFINED
BAND_CONTENT: UNDEFINED
BITS_PER_PIXEL: 8
SAMPLES_AND_LINES: 5444 7633
HORIZONTAL_DATUM: NAD83
HORIZONTAL_COORDINATE_SYSTEM: UTM
COORDINATE_ZONE: 13
HORIZONTAL_UNITS: METERS
HORIZONTAL_RESOLUTION: 1.00000
SECONDARY_HORIZONTAL_DATUM: NAD27
XY_ORIGIN: 396715.00000 5303625.00000
SECONDARY_XY_ORIGIN: 396755.82900 5303403.94000
NATION: US
NATION: "SCIENCE
STATE: MT
NW_QUAD_CORNER_XY: 397184.63100 5303322.24100
NE_QUAD_CORNER_XY: 401857.97400 5303240.93500
SE_QUAD_CORNERY_XY: 401739.99400 5296294.68800
SW_QUAD_CORNER_XY: 397061.03100 5296376.01100
SECONDARY_NW_QUAD_XY: 397181.40300 5303103.42000
SECONDARY_NE_QUAD_XY: 401854.89300 5303022.11200
SECONDARY_SE_QUAD_XY: 401736.91400 5296075.88100
SECONDARY_SW_QUAD_XY: 397057.80400 5296157.20700
RMSE_XY: 1.10000
IMAGE_SOURCE: BLACK AND WHITE FILM
SOURCE_IMAGE_ID: NAPP 9109 256
SOURCE_IMAGE_DATE: 1996 08 11
SOURCE_DEM_DATE: 1971 00 00
AGENCY: WESTERN MAPPING CENTER (WMC)
PRODUCER: UNDEFINED
PRODUCTION_SYSTEM: GIS/MAGIC
COMPRESSION: UNDEFINED
STANDARD_VERSION: 1996 12
METADATA_DATE: 2000 11 16
DATA_FILE_SIZE: 41559496
BYTE_COUNT: 5444
