FILENAME: O4710613.NWS.1112432.tif
QUADRANGLE_NAME: NORVILLE CREEK
QUADRANT: NW
WEST_LONGITUDE: -106 30 0.00000
EAST_LONGITUDE: -106 26 15.00000
NORTH_LATITUDE: 47 52 30.00000
SOUTH_LATITUDE: 47 48 45.00000
PRODUCTION_DATE: 2000 11 15
RASTER_ORDER: LEFT_RIGHT/TOP_BOTTOM
BAND_ORGANIZATION: SINGLE FILE
BAND_CONTENT: BLACK&WHITE
BAND_CONTENT: UNDEFINED
BAND_CONTENT: UNDEFINED
BITS_PER_PIXEL: 8
SAMPLES_AND_LINES: 5456 7640
HORIZONTAL_DATUM: NAD83
HORIZONTAL_COORDINATE_SYSTEM: UTM
COORDINATE_ZONE: 13
HORIZONTAL_UNITS: METERS
HORIZONTAL_RESOLUTION: 1.00000
SECONDARY_HORIZONTAL_DATUM: NAD27
XY_ORIGIN: 387357.00000 5303799.00000
SECONDARY_XY_ORIGIN: 387398.09900 5303577.80500
NATION: US
NATION: "SCIENCE
STATE: MT
NW_QUAD_CORNER_XY: 387837.98200 5303496.20100
NE_QUAD_CORNER_XY: 392511.30000 5303407.32900
SE_QUAD_CORNERY_XY: 392382.08000 5296461.11800
SW_QUAD_CORNER_XY: 387703.14100 5296550.00900
SECONDARY_NW_QUAD_XY: 387834.46100 5303277.38600
SECONDARY_NE_QUAD_XY: 392507.92600 5303188.51200
SECONDARY_SE_QUAD_XY: 392378.70600 5296242.31700
SECONDARY_SW_QUAD_XY: 387699.62100 5296331.21100
RMSE_XY: 1.00000
IMAGE_SOURCE: BLACK AND WHITE FILM
SOURCE_IMAGE_ID: NAPP 9109 132
SOURCE_IMAGE_DATE: 1996 08 11
SOURCE_DEM_DATE: 1971 00 00
AGENCY: WESTERN MAPPING CENTER (WMC)
PRODUCER: UNDEFINED
PRODUCTION_SYSTEM: GIS/MAGIC
COMPRESSION: UNDEFINED
STANDARD_VERSION: 1996 12
METADATA_DATE: 2000 11 16
DATA_FILE_SIZE: 41689296
BYTE_COUNT: 5456
