FILENAME: O4710613.SWS.1112434.tif
QUADRANGLE_NAME: NORVILLE CREEK
QUADRANT: SW
WEST_LONGITUDE: -106 30 0.00000
EAST_LONGITUDE: -106 26 15.00000
NORTH_LATITUDE: 47 48 45.00000
SOUTH_LATITUDE: 47 45 0.00000
PRODUCTION_DATE: 2000 11 15
RASTER_ORDER: LEFT_RIGHT/TOP_BOTTOM
BAND_ORGANIZATION: SINGLE FILE
BAND_CONTENT: BLACK&WHITE
BAND_CONTENT: UNDEFINED
BAND_CONTENT: UNDEFINED
BITS_PER_PIXEL: 8
SAMPLES_AND_LINES: 5462 7641
HORIZONTAL_DATUM: NAD83
HORIZONTAL_COORDINATE_SYSTEM: UTM
COORDINATE_ZONE: 13
HORIZONTAL_UNITS: METERS
HORIZONTAL_RESOLUTION: 1.00000
SECONDARY_HORIZONTAL_DATUM: NAD27
XY_ORIGIN: 387222.00000 5296853.00000
SECONDARY_XY_ORIGIN: 387263.18000 5296632.06200
NATION: US
NATION: "SCIENCE
STATE: MT
NW_QUAD_CORNER_XY: 387703.14100 5296550.00900
NE_QUAD_CORNER_XY: 392382.08000 5296461.11800
SE_QUAD_CORNERY_XY: 392252.98900 5289514.97800
SW_QUAD_CORNER_XY: 387568.43600 5289603.88700
SECONDARY_NW_QUAD_XY: 387699.62100 5296331.21100
SECONDARY_NE_QUAD_XY: 392378.70600 5296242.31700
SECONDARY_SE_QUAD_XY: 392249.61600 5289296.19500
SECONDARY_SW_QUAD_XY: 387564.91600 5289385.10700
RMSE_XY: 1.20000
IMAGE_SOURCE: BLACK AND WHITE FILM
SOURCE_IMAGE_ID: NAPP 9109 134
SOURCE_IMAGE_DATE: 1996 08 11
SOURCE_IMAGE_ID: NAPP 9110 098
SOURCE_IMAGE_DATE: 1996 08 11
SOURCE_IMAGE_ID: NAPP 9109 135
SOURCE_IMAGE_DATE: 1996 08 11
SOURCE_DEM_DATE: 1971 00 00
AGENCY: WESTERN MAPPING CENTER (WMC)
PRODUCER: UNDEFINED
PRODUCTION_SYSTEM: GIS/MAGIC
COMPRESSION: UNDEFINED
STANDARD_VERSION: 1996 12
METADATA_DATE: 2000 11 16
DATA_FILE_SIZE: 41740604
BYTE_COUNT: 5462
