FILENAME: O4710612.NES.1112395.tif
QUADRANGLE_NAME: SAGE CREEK POINT
QUADRANT: NE
WEST_LONGITUDE: -106 33 45.00000
EAST_LONGITUDE: -106 30 0.00000
NORTH_LATITUDE: 47 52 30.00000
SOUTH_LATITUDE: 47 48 45.00000
PRODUCTION_DATE: 2000 11 15
RASTER_ORDER: LEFT_RIGHT/TOP_BOTTOM
BAND_ORGANIZATION: SINGLE FILE
BAND_CONTENT: BLACK&WHITE
BAND_CONTENT: UNDEFINED
BAND_CONTENT: UNDEFINED
BITS_PER_PIXEL: 8
SAMPLES_AND_LINES: 5461 7644
HORIZONTAL_DATUM: NAD83
HORIZONTAL_COORDINATE_SYSTEM: UTM
COORDINATE_ZONE: 13
HORIZONTAL_UNITS: METERS
HORIZONTAL_RESOLUTION: 1.00000
SECONDARY_HORIZONTAL_DATUM: NAD27
XY_ORIGIN: 382678.00000 5303892.00000
SECONDARY_XY_ORIGIN: 382719.26900 5303670.79900
NATION: US
NATION: "SCIENCE
STATE: MT
NW_QUAD_CORNER_XY: 383164.67700 5303588.85700
NE_QUAD_CORNER_XY: 387837.98200 5303496.20100
SE_QUAD_CORNERY_XY: 387703.14100 5296550.00900
SW_QUAD_CORNER_XY: 383024.21600 5296642.68400
SECONDARY_NW_QUAD_XY: 383161.00900 5303370.04400
SECONDARY_NE_QUAD_XY: 387834.46100 5303277.38600
SECONDARY_SE_QUAD_XY: 387699.62100 5296331.21100
SECONDARY_SW_QUAD_XY: 383020.54900 5296423.88900
RMSE_XY: 2.30000
IMAGE_SOURCE: BLACK AND WHITE FILM
SOURCE_IMAGE_ID: NAPP 9110 101
SOURCE_IMAGE_DATE: 1996 08 11
SOURCE_DEM_DATE: 1993 00 00
AGENCY: WESTERN MAPPING CENTER (WMC)
PRODUCER: UNDEFINED
PRODUCTION_SYSTEM: GIS/MAGIC
COMPRESSION: UNDEFINED
STANDARD_VERSION: 1996 12
METADATA_DATE: 2000 11 16
DATA_FILE_SIZE: 41749345
BYTE_COUNT: 5461
