FILENAME: O4710611.NES.1112349.tif
QUADRANGLE_NAME: SEVENTH POINT BUTTES
QUADRANT: NE
WEST_LONGITUDE: -106 41 15.00000
EAST_LONGITUDE: -106 37 30.00000
NORTH_LATITUDE: 47 52 30.00000
SOUTH_LATITUDE: 47 48 45.00000
PRODUCTION_DATE: 2000 11 14
RASTER_ORDER: LEFT_RIGHT/TOP_BOTTOM
BAND_ORGANIZATION: SINGLE FILE
BAND_CONTENT: BLACK&WHITE
BAND_CONTENT: UNDEFINED
BAND_CONTENT: UNDEFINED
BITS_PER_PIXEL: 8
SAMPLES_AND_LINES: 5474 7651
HORIZONTAL_DATUM: NAD83
HORIZONTAL_COORDINATE_SYSTEM: UTM
COORDINATE_ZONE: 13
HORIZONTAL_UNITS: METERS
HORIZONTAL_RESOLUTION: 1.00000
SECONDARY_HORIZONTAL_DATUM: NAD27
XY_ORIGIN: 373319.00000 5304088.00000
SECONDARY_XY_ORIGIN: 373360.59500 5303866.78500
NATION: US
NATION: "SCIENCE
STATE: MT
NW_QUAD_CORNER_XY: 373818.10900 5303785.51800
NE_QUAD_CORNER_XY: 378491.38500 5303685.29500
SE_QUAD_CORNERY_XY: 378345.30400 5296739.14300
SW_QUAD_CORNER_XY: 373666.40600 5296839.38700
SECONDARY_NW_QUAD_XY: 373814.14800 5303566.71200
SECONDARY_NE_QUAD_XY: 378487.57100 5303466.48600
SECONDARY_SE_QUAD_XY: 378341.49000 5296520.35100
SECONDARY_SW_QUAD_XY: 373662.44500 5296620.59800
RMSE_XY: 1.60000
IMAGE_SOURCE: BLACK AND WHITE FILM
SOURCE_IMAGE_ID: NAPP 9111 119
SOURCE_IMAGE_DATE: 1996 08 11
SOURCE_IMAGE_ID: NAPP 9111 120
SOURCE_IMAGE_DATE: 1996 08 11
SOURCE_DEM_DATE: 1993 00 00
AGENCY: WESTERN MAPPING CENTER (WMC)
PRODUCER: UNDEFINED
PRODUCTION_SYSTEM: GIS/MAGIC
COMPRESSION: UNDEFINED
STANDARD_VERSION: 1996 12
METADATA_DATE: 2000 11 16
DATA_FILE_SIZE: 41887048
BYTE_COUNT: 5474
