FILENAME: O4710611.SWS.1112353.tif
QUADRANGLE_NAME: SEVENTH POINT BUTTES
QUADRANT: SW
WEST_LONGITUDE: -106 45 0.00000
EAST_LONGITUDE: -106 41 15.00000
NORTH_LATITUDE: 47 48 45.00000
SOUTH_LATITUDE: 47 45 0.00000
PRODUCTION_DATE: 2000 11 14
RASTER_ORDER: LEFT_RIGHT/TOP_BOTTOM
BAND_ORGANIZATION: SINGLE FILE
BAND_CONTENT: BLACK&WHITE
BAND_CONTENT: UNDEFINED
BAND_CONTENT: UNDEFINED
BITS_PER_PIXEL: 8
SAMPLES_AND_LINES: 5485 7655
HORIZONTAL_DATUM: NAD83
HORIZONTAL_COORDINATE_SYSTEM: UTM
COORDINATE_ZONE: 13
HORIZONTAL_UNITS: METERS
HORIZONTAL_RESOLUTION: 1.00000
SECONDARY_HORIZONTAL_DATUM: NAD27
XY_ORIGIN: 368483.00000 5297246.00000
SECONDARY_XY_ORIGIN: 368524.92700 5297024.95100
NATION: US
NATION: "SCIENCE
STATE: MT
NW_QUAD_CORNER_XY: 368987.52200 5296943.41600
NE_QUAD_CORNER_XY: 373666.40600 5296839.38700
SE_QUAD_CORNERY_XY: 373514.85400 5289893.32600
SW_QUAD_CORNER_XY: 368830.35400 5289997.37700
SECONDARY_NW_QUAD_XY: 368983.41500 5296724.63000
SECONDARY_NE_QUAD_XY: 373662.44500 5296620.59800
SECONDARY_SE_QUAD_XY: 373510.89400 5289674.55500
SECONDARY_SW_QUAD_XY: 368826.24800 5289778.60900
RMSE_XY: 2.20000
IMAGE_SOURCE: BLACK AND WHITE FILM
SOURCE_IMAGE_ID: NAPP 9111 198
SOURCE_IMAGE_DATE: 1996 08 11
SOURCE_IMAGE_ID: NAPP 9111 199
SOURCE_IMAGE_DATE: 1996 08 11
SOURCE_DEM_DATE: 1993 00 00
AGENCY: WESTERN MAPPING CENTER (WMC)
PRODUCER: UNDEFINED
PRODUCTION_SYSTEM: GIS/MAGIC
COMPRESSION: UNDEFINED
STANDARD_VERSION: 1996 12
METADATA_DATE: 2000 11 16
DATA_FILE_SIZE: 41993160
BYTE_COUNT: 5485
