FILENAME: O4710609.NES.1112258.tif
QUADRANGLE_NAME: BROWN PASS
QUADRANT: NE
WEST_LONGITUDE: -106 56 15.00000
EAST_LONGITUDE: -106 52 30.00000
NORTH_LATITUDE: 47 52 30.00000
SOUTH_LATITUDE: 47 48 45.00000
PRODUCTION_DATE: 2000 11 15
RASTER_ORDER: LEFT_RIGHT/TOP_BOTTOM
BAND_ORGANIZATION: SINGLE FILE
BAND_CONTENT: BLACK&WHITE
BAND_CONTENT: UNDEFINED
BAND_CONTENT: UNDEFINED
BITS_PER_PIXEL: 8
SAMPLES_AND_LINES: 5497 7667
HORIZONTAL_DATUM: NAD83
HORIZONTAL_COORDINATE_SYSTEM: UTM
COORDINATE_ZONE: 13
HORIZONTAL_UNITS: METERS
HORIZONTAL_RESOLUTION: 1.00000
SECONDARY_HORIZONTAL_DATUM: NAD27
XY_ORIGIN: 354603.00000 5304527.00000
SECONDARY_XY_ORIGIN: 354645.17100 5304305.88600
NATION: US
NATION: "SCIENCE
STATE: MT
NW_QUAD_CORNER_XY: 355125.15600 5304224.24800
NE_QUAD_CORNER_XY: 359798.37000 5304108.88900
SE_QUAD_CORNERY_XY: 359629.80100 5297162.82800
SW_QUAD_CORNER_XY: 354950.96500 5297278.21200
SECONDARY_NW_QUAD_XY: 355120.60800 5304005.45600
SECONDARY_NE_QUAD_XY: 359793.96900 5303890.09300
SECONDARY_SE_QUAD_XY: 359625.40000 5296944.04900
SECONDARY_SW_QUAD_XY: 354946.41700 5297059.43700
RMSE_XY: 1.60000
IMAGE_SOURCE: BLACK AND WHITE FILM
SOURCE_IMAGE_ID: NAPP 10763 052
SOURCE_IMAGE_DATE: 1997 09 20
SOURCE_DEM_DATE: 1993 00 00
AGENCY: WESTERN MAPPING CENTER (WMC)
PRODUCER: UNDEFINED
PRODUCTION_SYSTEM: GIS/MAGIC
COMPRESSION: UNDEFINED
STANDARD_VERSION: 1996 12
METADATA_DATE: 2000 11 17
DATA_FILE_SIZE: 42150996
BYTE_COUNT: 5497
