FILENAME: O4710608.SWS.1112602.tif
QUADRANGLE_NAME: PASTURE CREEK
QUADRANT: SW
WEST_LONGITUDE: -106 7 30.00000
EAST_LONGITUDE: -106 3 45.00000
NORTH_LATITUDE: 47 56 15.00000
SOUTH_LATITUDE: 47 52 30.00000
PRODUCTION_DATE: 2000 11 16
RASTER_ORDER: LEFT_RIGHT/TOP_BOTTOM
BAND_ORGANIZATION: SINGLE FILE
BAND_CONTENT: BLACK&WHITE
BAND_CONTENT: UNDEFINED
BAND_CONTENT: UNDEFINED
BITS_PER_PIXEL: 8
SAMPLES_AND_LINES: 5416 7618
HORIZONTAL_DATUM: NAD83
HORIZONTAL_COORDINATE_SYSTEM: UTM
COORDINATE_ZONE: 13
HORIZONTAL_UNITS: METERS
HORIZONTAL_RESOLUTION: 1.00000
SECONDARY_HORIZONTAL_DATUM: NAD27
XY_ORIGIN: 415533.00000 5310269.00000
SECONDARY_XY_ORIGIN: 415573.42500 5310047.88600
NATION: US
NATION: "SCIENCE
STATE: MT
NW_QUAD_CORNER_XY: 415979.29200 5309966.08100
NE_QUAD_CORNER_XY: 420647.05400 5309899.91900
SE_QUAD_CORNERY_XY: 420551.45600 5302953.53700
SW_QUAD_CORNER_XY: 415878.07000 5303019.71300
SECONDARY_NW_QUAD_XY: 415976.65200 5309747.23400
SECONDARY_NE_QUAD_XY: 420644.56000 5309681.07100
SECONDARY_SE_QUAD_XY: 420548.96200 5302734.70500
SECONDARY_SW_QUAD_XY: 415875.43000 5302800.88300
RMSE_XY: 2.10000
IMAGE_SOURCE: BLACK AND WHITE FILM
SOURCE_IMAGE_ID: NAPP 9090 011
SOURCE_IMAGE_DATE: 1996 07 07
SOURCE_IMAGE_ID: NAPP 9106 062
SOURCE_IMAGE_DATE: 1996 08 07
SOURCE_IMAGE_ID: NAPP 9090 012
SOURCE_IMAGE_DATE: 1996 07 07
SOURCE_IMAGE_ID: NAPP 9090 010
SOURCE_IMAGE_DATE: 1996 07 07
SOURCE_DEM_DATE: 1993 00 00
AGENCY: WESTERN MAPPING CENTER (WMC)
PRODUCER: UNDEFINED
PRODUCTION_SYSTEM: GIS/MAGIC
COMPRESSION: UNDEFINED
STANDARD_VERSION: 1996 12
METADATA_DATE: 2000 11 16
DATA_FILE_SIZE: 41264504
BYTE_COUNT: 5416
