FILENAME: O4710606.NES.1112467.tif
QUADRANGLE_NAME: BOBCAT CREEK
QUADRANT: NE
WEST_LONGITUDE: -106 18 45.00000
EAST_LONGITUDE: -106 15 0.00000
NORTH_LATITUDE: 48 0 0.00000
SOUTH_LATITUDE: 47 56 15.00000
PRODUCTION_DATE: 2000 11 16
RASTER_ORDER: LEFT_RIGHT/TOP_BOTTOM
BAND_ORGANIZATION: SINGLE FILE
BAND_CONTENT: BLACK&WHITE
BAND_CONTENT: UNDEFINED
BAND_CONTENT: UNDEFINED
BITS_PER_PIXEL: 8
SAMPLES_AND_LINES: 5427 7630
HORIZONTAL_DATUM: NAD83
HORIZONTAL_COORDINATE_SYSTEM: UTM
COORDINATE_ZONE: 13
HORIZONTAL_UNITS: METERS
HORIZONTAL_RESOLUTION: 1.00000
SECONDARY_HORIZONTAL_DATUM: NAD27
XY_ORIGIN: 401631.00000 5317437.00000
SECONDARY_XY_ORIGIN: 401671.59000 5317215.49600
NATION: US
NATION: "SCIENCE
STATE: MT
NW_QUAD_CORNER_XY: 402094.28600 5317133.64500
NE_QUAD_CORNER_XY: 406756.38400 5317056.15600
SE_QUAD_CORNERY_XY: 406643.80000 5310109.74800
SW_QUAD_CORNER_XY: 401976.07100 5310187.25400
SECONDARY_NW_QUAD_XY: 402091.20500 5316914.79000
SECONDARY_NE_QUAD_XY: 406753.45000 5316837.29900
SECONDARY_SE_QUAD_XY: 406640.86600 5309890.90600
SECONDARY_SW_QUAD_XY: 401972.99000 5309968.41500
RMSE_XY: 2.00000
IMAGE_SOURCE: BLACK AND WHITE FILM
SOURCE_IMAGE_ID: NAPP 9122 053
SOURCE_IMAGE_DATE: 1996 09 11
SOURCE_DEM_DATE: 1971 00 00
AGENCY: WESTERN MAPPING CENTER (WMC)
PRODUCER: UNDEFINED
PRODUCTION_SYSTEM: GIS/MAGIC
COMPRESSION: UNDEFINED
STANDARD_VERSION: 1996 12
METADATA_DATE: 2000 11 16
DATA_FILE_SIZE: 41413437
BYTE_COUNT: 5427
