FILENAME: O4710605.NES.1112427.tif
QUADRANGLE_NAME: YORK ISLAND
QUADRANT: NE
WEST_LONGITUDE: -106 26 15.00000
EAST_LONGITUDE: -106 22 30.00000
NORTH_LATITUDE: 48 0 0.00000
SOUTH_LATITUDE: 47 56 15.00000
PRODUCTION_DATE: 2000 11 16
RASTER_ORDER: LEFT_RIGHT/TOP_BOTTOM
BAND_ORGANIZATION: SINGLE FILE
BAND_CONTENT: BLACK&WHITE
BAND_CONTENT: UNDEFINED
BAND_CONTENT: UNDEFINED
BITS_PER_PIXEL: 8
SAMPLES_AND_LINES: 5439 7637
HORIZONTAL_DATUM: NAD83
HORIZONTAL_COORDINATE_SYSTEM: UTM
COORDINATE_ZONE: 13
HORIZONTAL_UNITS: METERS
HORIZONTAL_RESOLUTION: 1.00000
SECONDARY_HORIZONTAL_DATUM: NAD27
XY_ORIGIN: 392295.00000 5317603.00000
SECONDARY_XY_ORIGIN: 392335.82200 5317381.36200
NATION: US
NATION: "SCIENCE
STATE: MT
NW_QUAD_CORNER_XY: 392770.12600 5317299.96600
NE_QUAD_CORNER_XY: 397432.19900 5317214.91500
SE_QUAD_CORNERY_XY: 397308.35400 5310268.54200
SW_QUAD_CORNER_XY: 392640.64800 5310353.61200
SECONDARY_NW_QUAD_XY: 392766.75100 5317081.11700
SECONDARY_NE_QUAD_XY: 397428.97200 5316996.06300
SECONDARY_SE_QUAD_XY: 397305.12600 5310049.70500
SECONDARY_SW_QUAD_XY: 392637.27400 5310134.77800
RMSE_XY: 1.50000
IMAGE_SOURCE: BLACK AND WHITE FILM
SOURCE_IMAGE_ID: NAPP 9109 183
SOURCE_IMAGE_DATE: 1996 08 11
SOURCE_DEM_DATE: 1993 00 00
AGENCY: WESTERN MAPPING CENTER (WMC)
PRODUCER: UNDEFINED
PRODUCTION_SYSTEM: GIS/MAGIC
COMPRESSION: UNDEFINED
STANDARD_VERSION: 1996 12
METADATA_DATE: 2000 11 16
DATA_FILE_SIZE: 41543082
BYTE_COUNT: 5439
