FILENAME: O4710603.SES.1112346.tif
QUADRANGLE_NAME: LEWIS RESERVOIR
QUADRANT: SE
WEST_LONGITUDE: -106 41 15.00000
EAST_LONGITUDE: -106 37 30.00000
NORTH_LATITUDE: 47 56 15.00000
SOUTH_LATITUDE: 47 52 30.00000
PRODUCTION_DATE: 2000 11 14
RASTER_ORDER: LEFT_RIGHT/TOP_BOTTOM
BAND_ORGANIZATION: SINGLE FILE
BAND_CONTENT: BLACK&WHITE
BAND_CONTENT: UNDEFINED
BAND_CONTENT: UNDEFINED
BITS_PER_PIXEL: 8
SAMPLES_AND_LINES: 5468 7652
HORIZONTAL_DATUM: NAD83
HORIZONTAL_COORDINATE_SYSTEM: UTM
COORDINATE_ZONE: 13
HORIZONTAL_UNITS: METERS
HORIZONTAL_RESOLUTION: 1.00000
SECONDARY_HORIZONTAL_DATUM: NAD27
XY_ORIGIN: 373471.00000 5311035.00000
SECONDARY_XY_ORIGIN: 373512.44900 5310813.59200
NATION: US
NATION: "SCIENCE
STATE: MT
NW_QUAD_CORNER_XY: 373969.96300 5310731.71700
NE_QUAD_CORNER_XY: 378637.61300 5310631.51700
SE_QUAD_CORNERY_XY: 378491.38500 5303685.29500
SW_QUAD_CORNER_XY: 373818.10900 5303785.51800
SECONDARY_NW_QUAD_XY: 373966.00200 5310512.89500
SECONDARY_NE_QUAD_XY: 378633.79800 5310412.69200
SECONDARY_SE_QUAD_XY: 378487.57100 5303466.48600
SECONDARY_SW_QUAD_XY: 373814.14800 5303566.71200
RMSE_XY: 1.50000
IMAGE_SOURCE: BLACK AND WHITE FILM
SOURCE_IMAGE_ID: NAPP 9111 121
SOURCE_IMAGE_DATE: 1996 08 11
SOURCE_IMAGE_ID: NAPP 9111 120
SOURCE_IMAGE_DATE: 1996 08 11
SOURCE_DEM_DATE: 1993 00 00
AGENCY: WESTERN MAPPING CENTER (WMC)
PRODUCER: UNDEFINED
PRODUCTION_SYSTEM: GIS/MAGIC
COMPRESSION: UNDEFINED
STANDARD_VERSION: 1996 12
METADATA_DATE: 2000 11 16
DATA_FILE_SIZE: 41846604
BYTE_COUNT: 5468
