FILENAME: O4710759.SWS.1112165.tif
QUADRANGLE_NAME: FROEHLICH BUTTE
QUADRANT: SW
WEST_LONGITUDE: -107 45 0.00000
EAST_LONGITUDE: -107 41 15.00000
NORTH_LATITUDE: 47 3 45.00000
SOUTH_LATITUDE: 47 0 0.00000
PRODUCTION_DATE: 2000 11 16
RASTER_ORDER: LEFT_RIGHT/TOP_BOTTOM
BAND_ORGANIZATION: SINGLE FILE
BAND_CONTENT: BLACK&WHITE
BAND_CONTENT: UNDEFINED
BAND_CONTENT: UNDEFINED
BITS_PER_PIXEL: 8
SAMPLES_AND_LINES: 5643 7714
HORIZONTAL_DATUM: NAD83
HORIZONTAL_COORDINATE_SYSTEM: UTM
COORDINATE_ZONE: 13
HORIZONTAL_UNITS: METERS
HORIZONTAL_RESOLUTION: 1.00000
SECONDARY_HORIZONTAL_DATUM: NAD27
XY_ORIGIN: 290583.00000 5216081.00000
SECONDARY_XY_ORIGIN: 290626.81200 5215861.53000
NATION: US
NATION: "SCIENCE
STATE: MT
NW_QUAD_CORNER_XY: 291179.27200 5215779.69800
NE_QUAD_CORNER_XY: 295924.94700 5215614.71400
SE_QUAD_CORNERY_XY: 295686.40800 5208669.81300
SW_QUAD_CORNER_XY: 290935.17800 5208834.82200
SECONDARY_NW_QUAD_XY: 291172.82700 5215561.24900
SECONDARY_NE_QUAD_XY: 295918.64900 5215396.26000
SECONDARY_SE_QUAD_XY: 295680.11000 5208451.38600
SECONDARY_SW_QUAD_XY: 290928.73400 5208616.40000
RMSE_XY: 2.80000
IMAGE_SOURCE: BLACK AND WHITE FILM
SOURCE_IMAGE_ID: NAPP 9131 169
SOURCE_IMAGE_DATE: 1996 07 29
SOURCE_DEM_DATE: 1993 00 00
AGENCY: WESTERN MAPPING CENTER (WMC)
PRODUCER: UNDEFINED
PRODUCTION_SYSTEM: GIS/MAGIC
COMPRESSION: UNDEFINED
STANDARD_VERSION: 1996 12
METADATA_DATE: 2000 11 16
DATA_FILE_SIZE: 43535745
BYTE_COUNT: 5643
