FILENAME: O4710756.NWS.1115029.tif
QUADRANGLE_NAME: ZIEGELE COULEE
QUADRANT: NW
WEST_LONGITUDE: -107 7 30.00000
EAST_LONGITUDE: -107 3 45.00000
NORTH_LATITUDE: 47 15 0.00000
SOUTH_LATITUDE: 47 11 15.00000
PRODUCTION_DATE: 2000 11 16
RASTER_ORDER: LEFT_RIGHT/TOP_BOTTOM
BAND_ORGANIZATION: SINGLE FILE
BAND_CONTENT: BLACK&WHITE
BAND_CONTENT: UNDEFINED
BAND_CONTENT: UNDEFINED
BITS_PER_PIXEL: 8
SAMPLES_AND_LINES: 5569 7676
HORIZONTAL_DATUM: NAD83
HORIZONTAL_COORDINATE_SYSTEM: UTM
COORDINATE_ZONE: 13
HORIZONTAL_UNITS: METERS
HORIZONTAL_RESOLUTION: 1.00000
SECONDARY_HORIZONTAL_DATUM: NAD27
XY_ORIGIN: 338665.00000 5235438.00000
SECONDARY_XY_ORIGIN: 338707.92100 5235218.07400
NATION: US
NATION: "SCIENCE
STATE: MT
NW_QUAD_CORNER_XY: 339203.61100 5235136.42100
NE_QUAD_CORNER_XY: 343932.75600 5235009.46100
SE_QUAD_CORNERY_XY: 343749.17900 5228064.13900
SW_QUAD_CORNER_XY: 339014.46600 5228191.12000
SECONDARY_NW_QUAD_XY: 339198.62900 5234917.84700
SECONDARY_NE_QUAD_XY: 343927.92100 5234790.88300
SECONDARY_SE_QUAD_XY: 343744.34400 5227845.58700
SECONDARY_SW_QUAD_XY: 339009.48500 5227972.57200
RMSE_XY: 0.80000
IMAGE_SOURCE: BLACK AND WHITE FILM
SOURCE_IMAGE_ID: NAPP 10764 078
SOURCE_IMAGE_DATE: 1997 09 20
SOURCE_DEM_DATE: 1964 00 00
AGENCY: WESTERN MAPPING CENTER (WMC)
PRODUCER: UNDEFINED
PRODUCTION_SYSTEM: GIS/MAGIC
COMPRESSION: UNDEFINED
STANDARD_VERSION: 1996 12
METADATA_DATE: 2000 11 17
DATA_FILE_SIZE: 42753213
BYTE_COUNT: 5569
