FILENAME: O4710755.NES.1114992.tif
QUADRANGLE_NAME: BIG DRY SCHOOL
QUADRANT: NE
WEST_LONGITUDE: -107 11 15.00000
EAST_LONGITUDE: -107 7 30.00000
NORTH_LATITUDE: 47 15 0.00000
SOUTH_LATITUDE: 47 11 15.00000
PRODUCTION_DATE: 2000 11 16
RASTER_ORDER: LEFT_RIGHT/TOP_BOTTOM
BAND_ORGANIZATION: SINGLE FILE
BAND_CONTENT: BLACK&WHITE
BAND_CONTENT: UNDEFINED
BAND_CONTENT: UNDEFINED
BITS_PER_PIXEL: 8
SAMPLES_AND_LINES: 5575 7680
HORIZONTAL_DATUM: NAD83
HORIZONTAL_COORDINATE_SYSTEM: UTM
COORDINATE_ZONE: 13
HORIZONTAL_UNITS: METERS
HORIZONTAL_RESOLUTION: 1.00000
SECONDARY_HORIZONTAL_DATUM: NAD27
XY_ORIGIN: 333930.00000 5235569.00000
SECONDARY_XY_ORIGIN: 333973.02500 5235349.02400
NATION: US
NATION: "SCIENCE
STATE: MT
NW_QUAD_CORNER_XY: 334474.48100 5235267.17300
NE_QUAD_CORNER_XY: 339203.61100 5235136.42100
SE_QUAD_CORNERY_XY: 339014.46600 5228191.12000
SW_QUAD_CORNER_XY: 334279.76800 5228321.89500
SECONDARY_NW_QUAD_XY: 334469.35300 5235048.60400
SECONDARY_NE_QUAD_XY: 339198.62900 5234917.84700
SECONDARY_SE_QUAD_XY: 339009.48500 5227972.57200
SECONDARY_SW_QUAD_XY: 334274.64000 5228103.35100
RMSE_XY: 0.90000
IMAGE_SOURCE: BLACK AND WHITE FILM
SOURCE_IMAGE_ID: NAPP 9100 006
SOURCE_IMAGE_DATE: 1996 07 14
SOURCE_DEM_DATE: 1964 00 00
AGENCY: WESTERN MAPPING CENTER (WMC)
PRODUCER: UNDEFINED
PRODUCTION_SYSTEM: GIS/MAGIC
COMPRESSION: UNDEFINED
STANDARD_VERSION: 1996 12
METADATA_DATE: 2000 11 17
DATA_FILE_SIZE: 42821575
BYTE_COUNT: 5575
