FILENAME: O4710755.NWS.1114993.tif
QUADRANGLE_NAME: BIG DRY SCHOOL
QUADRANT: NW
WEST_LONGITUDE: -107 15 0.00000
EAST_LONGITUDE: -107 11 15.00000
NORTH_LATITUDE: 47 15 0.00000
SOUTH_LATITUDE: 47 11 15.00000
PRODUCTION_DATE: 2000 11 16
RASTER_ORDER: LEFT_RIGHT/TOP_BOTTOM
BAND_ORGANIZATION: SINGLE FILE
BAND_CONTENT: BLACK&WHITE
BAND_CONTENT: UNDEFINED
BAND_CONTENT: UNDEFINED
BITS_PER_PIXEL: 8
SAMPLES_AND_LINES: 5581 7685
HORIZONTAL_DATUM: NAD83
HORIZONTAL_COORDINATE_SYSTEM: UTM
COORDINATE_ZONE: 13
HORIZONTAL_UNITS: METERS
HORIZONTAL_RESOLUTION: 1.00000
SECONDARY_HORIZONTAL_DATUM: NAD27
XY_ORIGIN: 329195.00000 5235704.00000
SECONDARY_XY_ORIGIN: 329238.13000 5235483.97400
NATION: US
NATION: "SCIENCE
STATE: MT
NW_QUAD_CORNER_XY: 329745.36700 5235401.71900
NE_QUAD_CORNER_XY: 334474.48100 5235267.17300
SE_QUAD_CORNERY_XY: 334279.76800 5228321.89500
SW_QUAD_CORNER_XY: 329545.08500 5228456.46300
SECONDARY_NW_QUAD_XY: 329740.09100 5235183.15400
SECONDARY_NE_QUAD_XY: 334469.35300 5235048.60400
SECONDARY_SE_QUAD_XY: 334274.64000 5228103.35100
SECONDARY_SW_QUAD_XY: 329539.81100 5228237.92300
RMSE_XY: 1.10000
IMAGE_SOURCE: BLACK AND WHITE FILM
SOURCE_IMAGE_ID: NAPP 10765 036
SOURCE_IMAGE_DATE: 1997 09 23
SOURCE_IMAGE_ID: NAPP 10765 035
SOURCE_IMAGE_DATE: 1997 09 23
SOURCE_DEM_DATE: 1964 00 00
AGENCY: WESTERN MAPPING CENTER (WMC)
PRODUCER: UNDEFINED
PRODUCTION_SYSTEM: GIS/MAGIC
COMPRESSION: UNDEFINED
STANDARD_VERSION: 1996 12
METADATA_DATE: 2000 11 17
DATA_FILE_SIZE: 42895566
BYTE_COUNT: 5581
