FILENAME: O4710748.NWS.1115045.tif
QUADRANGLE_NAME: SMOKY BUTTE
QUADRANT: NW
WEST_LONGITUDE: -107 7 30.00000
EAST_LONGITUDE: -107 3 45.00000
NORTH_LATITUDE: 47 22 30.00000
SOUTH_LATITUDE: 47 18 45.00000
PRODUCTION_DATE: 2000 11 16
RASTER_ORDER: LEFT_RIGHT/TOP_BOTTOM
BAND_ORGANIZATION: SINGLE FILE
BAND_CONTENT: BLACK&WHITE
BAND_CONTENT: UNDEFINED
BAND_CONTENT: UNDEFINED
BITS_PER_PIXEL: 8
SAMPLES_AND_LINES: 5558 7677
HORIZONTAL_DATUM: NAD83
HORIZONTAL_COORDINATE_SYSTEM: UTM
COORDINATE_ZONE: 13
HORIZONTAL_UNITS: METERS
HORIZONTAL_RESOLUTION: 1.00000
SECONDARY_HORIZONTAL_DATUM: NAD27
XY_ORIGIN: 339044.00000 5249329.00000
SECONDARY_XY_ORIGIN: 339086.92700 5249108.84900
NATION: US
NATION: "SCIENCE
STATE: MT
NW_QUAD_CORNER_XY: 339582.47900 5249027.21800
NE_QUAD_CORNER_XY: 344300.47200 5248900.30300
SE_QUAD_CORNERY_XY: 344116.52100 5241954.84900
SW_QUAD_CORNER_XY: 339392.94900 5242081.78700
SECONDARY_NW_QUAD_XY: 339577.49600 5248808.59700
SECONDARY_NE_QUAD_XY: 344295.63500 5248681.67700
SECONDARY_SE_QUAD_XY: 344111.68500 5241736.24700
SECONDARY_SW_QUAD_XY: 339387.96600 5241863.18900
RMSE_XY: 0.70000
IMAGE_SOURCE: BLACK AND WHITE FILM
SOURCE_IMAGE_ID: NAPP 9101 121
SOURCE_IMAGE_DATE: 1996 07 15
SOURCE_DEM_DATE: 1979 00 00
AGENCY: WESTERN MAPPING CENTER (WMC)
PRODUCER: UNDEFINED
PRODUCTION_SYSTEM: GIS/MAGIC
COMPRESSION: UNDEFINED
STANDARD_VERSION: 1996 12
METADATA_DATE: 2000 11 17
DATA_FILE_SIZE: 42674324
BYTE_COUNT: 5558
