FILENAME: O4710747.SWS.1115011.tif
QUADRANGLE_NAME: SMOKY BUTTE CREEK
QUADRANT: SW
WEST_LONGITUDE: -107 15 0.00000
EAST_LONGITUDE: -107 11 15.00000
NORTH_LATITUDE: 47 18 45.00000
SOUTH_LATITUDE: 47 15 0.00000
PRODUCTION_DATE: 2000 11 16
RASTER_ORDER: LEFT_RIGHT/TOP_BOTTOM
BAND_ORGANIZATION: SINGLE FILE
BAND_CONTENT: BLACK&WHITE
BAND_CONTENT: UNDEFINED
BAND_CONTENT: UNDEFINED
BITS_PER_PIXEL: 8
SAMPLES_AND_LINES: 5576 7684
HORIZONTAL_DATUM: NAD83
HORIZONTAL_COORDINATE_SYSTEM: UTM
COORDINATE_ZONE: 13
HORIZONTAL_UNITS: METERS
HORIZONTAL_RESOLUTION: 1.00000
SECONDARY_HORIZONTAL_DATUM: NAD27
XY_ORIGIN: 329395.00000 5242649.00000
SECONDARY_XY_ORIGIN: 329438.13200 5242428.87500
NATION: US
NATION: "SCIENCE
STATE: MT
NW_QUAD_CORNER_XY: 329945.85200 5242347.04000
NE_QUAD_CORNER_XY: 334669.39300 5242212.51700
SE_QUAD_CORNERY_XY: 334474.48100 5235267.17300
SW_QUAD_CORNER_XY: 329745.36700 5235401.71900
SECONDARY_NW_QUAD_XY: 329940.57600 5242128.45000
SECONDARY_NE_QUAD_XY: 334664.26300 5241993.92300
SECONDARY_SE_QUAD_XY: 334469.35300 5235048.60400
SECONDARY_SW_QUAD_XY: 329740.09100 5235183.15400
RMSE_XY: 1.10000
IMAGE_SOURCE: BLACK AND WHITE FILM
SOURCE_IMAGE_ID: NAPP 9101 235
SOURCE_IMAGE_DATE: 1996 07 15
SOURCE_DEM_DATE: 1979 00 00
AGENCY: WESTERN MAPPING CENTER (WMC)
PRODUCER: UNDEFINED
PRODUCTION_SYSTEM: GIS/MAGIC
COMPRESSION: UNDEFINED
STANDARD_VERSION: 1996 12
METADATA_DATE: 2000 11 17
DATA_FILE_SIZE: 42851560
BYTE_COUNT: 5576
