FILENAME: O4710745.SWS.1112217.tif
QUADRANGLE_NAME: STEVE FORKS SW
QUADRANT: SW
WEST_LONGITUDE: -107 30 0.00000
EAST_LONGITUDE: -107 26 15.00000
NORTH_LATITUDE: 47 18 45.00000
SOUTH_LATITUDE: 47 15 0.00000
PRODUCTION_DATE: 2000 11 7
RASTER_ORDER: LEFT_RIGHT/TOP_BOTTOM
BAND_ORGANIZATION: SINGLE FILE
BAND_CONTENT: BLACK&WHITE
BAND_CONTENT: UNDEFINED
BAND_CONTENT: UNDEFINED
BITS_PER_PIXEL: 8
SAMPLES_AND_LINES: 5599 7699
HORIZONTAL_DATUM: NAD83
HORIZONTAL_COORDINATE_SYSTEM: UTM
COORDINATE_ZONE: 13
HORIZONTAL_UNITS: METERS
HORIZONTAL_RESOLUTION: 1.00000
SECONDARY_HORIZONTAL_DATUM: NAD27
XY_ORIGIN: 310478.00000 5243225.00000
SECONDARY_XY_ORIGIN: 310521.39100 5243004.78900
NATION: US
NATION: "SCIENCE
STATE: MT
NW_QUAD_CORNER_XY: 311051.85500 5242923.06200
NE_QUAD_CORNER_XY: 315775.32800 5242773.36600
SE_QUAD_CORNERY_XY: 315558.11900 5235828.11900
SW_QUAD_CORNER_XY: 310829.07000 5235977.84100
SECONDARY_NW_QUAD_XY: 311045.99200 5242704.49100
SECONDARY_NE_QUAD_XY: 315769.61200 5242554.79000
SECONDARY_SE_QUAD_XY: 315552.40400 5235609.56700
SECONDARY_SW_QUAD_XY: 310823.20800 5235759.29400
RMSE_XY: 0.90000
IMAGE_SOURCE: BLACK AND WHITE FILM
SOURCE_IMAGE_ID: NAPP 9127 165
SOURCE_IMAGE_DATE: 1996 07 15
SOURCE_IMAGE_ID: NAPP 9127 166
SOURCE_IMAGE_DATE: 1996 07 15
SOURCE_DEM_DATE: 1979 00 00
AGENCY: WESTERN MAPPING CENTER (WMC)
PRODUCER: UNDEFINED
PRODUCTION_SYSTEM: GIS/MAGIC
COMPRESSION: UNDEFINED
STANDARD_VERSION: 1996 12
METADATA_DATE: 2000 11 17
DATA_FILE_SIZE: 43112300
BYTE_COUNT: 5599
