FILENAME: O4710736.SWS.1112197.tif
QUADRANGLE_NAME: SPRING CREEK SCHOOL
QUADRANT: SW
WEST_LONGITUDE: -107 37 30.00000
EAST_LONGITUDE: -107 33 45.00000
NORTH_LATITUDE: 47 26 15.00000
SOUTH_LATITUDE: 47 22 30.00000
PRODUCTION_DATE: 2000 11 16
RASTER_ORDER: LEFT_RIGHT/TOP_BOTTOM
BAND_ORGANIZATION: SINGLE FILE
BAND_CONTENT: BLACK&WHITE
BAND_CONTENT: UNDEFINED
BAND_CONTENT: UNDEFINED
BITS_PER_PIXEL: 8
SAMPLES_AND_LINES: 5599 7708
HORIZONTAL_DATUM: NAD83
HORIZONTAL_COORDINATE_SYSTEM: UTM
COORDINATE_ZONE: 13
HORIZONTAL_UNITS: METERS
HORIZONTAL_RESOLUTION: 1.00000
SECONDARY_HORIZONTAL_DATUM: NAD27
XY_ORIGIN: 301488.00000 5257427.00000
SECONDARY_XY_ORIGIN: 301531.44100 5257206.64900
NATION: US
NATION: "SCIENCE
STATE: MT
NW_QUAD_CORNER_XY: 302073.55100 5257124.35300
NE_QUAD_CORNER_XY: 306785.81700 5256967.12500
SE_QUAD_CORNERY_XY: 306556.99300 5250021.80800
SW_QUAD_CORNER_XY: 301839.13800 5250179.06500
SECONDARY_NW_QUAD_XY: 302067.39400 5256905.74400
SECONDARY_NE_QUAD_XY: 306779.80700 5256748.51100
SECONDARY_SE_QUAD_XY: 306550.98300 5249803.21700
SECONDARY_SW_QUAD_XY: 301832.98200 5249960.47900
RMSE_XY: 1.90000
IMAGE_SOURCE: BLACK AND WHITE FILM
SOURCE_IMAGE_ID: NAPP 9131 042
SOURCE_IMAGE_DATE: 1996 07 29
SOURCE_IMAGE_ID: NAPP 9131 113
SOURCE_IMAGE_DATE: 1996 07 29
SOURCE_IMAGE_ID: NAPP 9131 043
SOURCE_IMAGE_DATE: 1996 07 29
SOURCE_DEM_DATE: 1964 00 00
AGENCY: WESTERN MAPPING CENTER (WMC)
PRODUCER: UNDEFINED
PRODUCTION_SYSTEM: GIS/MAGIC
COMPRESSION: UNDEFINED
STANDARD_VERSION: 1996 12
METADATA_DATE: 2000 11 16
DATA_FILE_SIZE: 43162691
BYTE_COUNT: 5599
