FILENAME: O4710724.SWS.1112229.tif
QUADRANGLE_NAME: HARPER CAMP
QUADRANT: SW
WEST_LONGITUDE: -107 7 30.00000
EAST_LONGITUDE: -107 3 45.00000
NORTH_LATITUDE: 47 41 15.00000
SOUTH_LATITUDE: 47 37 30.00000
PRODUCTION_DATE: 2000 11 14
RASTER_ORDER: LEFT_RIGHT/TOP_BOTTOM
BAND_ORGANIZATION: SINGLE FILE
BAND_CONTENT: BLACK&WHITE
BAND_CONTENT: UNDEFINED
BAND_CONTENT: UNDEFINED
BITS_PER_PIXEL: 8
SAMPLES_AND_LINES: 5532 7678
HORIZONTAL_DATUM: NAD83
HORIZONTAL_COORDINATE_SYSTEM: UTM
COORDINATE_ZONE: 13
HORIZONTAL_UNITS: METERS
HORIZONTAL_RESOLUTION: 1.00000
SECONDARY_HORIZONTAL_DATUM: NAD27
XY_ORIGIN: 339993.00000 5284058.00000
SECONDARY_XY_ORIGIN: 340035.86400 5283837.18800
NATION: US
NATION: "SCIENCE
STATE: MT
NW_QUAD_CORNER_XY: 340533.00800 5283755.36200
NE_QUAD_CORNER_XY: 345223.02300 5283628.56800
SE_QUAD_CORNERY_XY: 345038.14100 5276682.78200
SW_QUAD_CORNER_XY: 340342.51900 5276809.60200
SECONDARY_NW_QUAD_XY: 340528.02100 5283536.63500
SECONDARY_NE_QUAD_XY: 345218.18300 5283409.83600
SECONDARY_SE_QUAD_XY: 345033.30200 5276464.07000
SECONDARY_SW_QUAD_XY: 340337.53300 5276590.89400
RMSE_XY: 2.30000
IMAGE_SOURCE: BLACK AND WHITE FILM
SOURCE_IMAGE_ID: NAPP 10763 059
SOURCE_IMAGE_DATE: 1997 09 20
SOURCE_IMAGE_ID: NAPP 10763 060
SOURCE_IMAGE_DATE: 1997 09 20
SOURCE_IMAGE_ID: NAPP 10763 058
SOURCE_IMAGE_DATE: 1997 09 20
SOURCE_IMAGE_ID: NAPP 9101 109
SOURCE_IMAGE_DATE: 1996 07 15
SOURCE_IMAGE_ID: NAPP 9101 107
SOURCE_IMAGE_DATE: 1996 07 15
SOURCE_DEM_DATE: 1993 00 00
AGENCY: WESTERN MAPPING CENTER (WMC)
PRODUCER: UNDEFINED
PRODUCTION_SYSTEM: GIS/MAGIC
COMPRESSION: UNDEFINED
STANDARD_VERSION: 1996 12
METADATA_DATE: 2000 11 17
DATA_FILE_SIZE: 42480228
BYTE_COUNT: 5532
