FILENAME: O4710722.NWS.1114985.tif
QUADRANGLE_NAME: WOLFE COULEE
QUADRANT: NW
WEST_LONGITUDE: -107 22 30.00000
EAST_LONGITUDE: -107 18 45.00000
NORTH_LATITUDE: 47 45 0.00000
SOUTH_LATITUDE: 47 41 15.00000
PRODUCTION_DATE: 2000 11 10
RASTER_ORDER: LEFT_RIGHT/TOP_BOTTOM
BAND_ORGANIZATION: SINGLE FILE
BAND_CONTENT: BLACK&WHITE
BAND_CONTENT: UNDEFINED
BAND_CONTENT: UNDEFINED
BITS_PER_PIXEL: 8
SAMPLES_AND_LINES: 5549 7693
HORIZONTAL_DATUM: NAD83
HORIZONTAL_COORDINATE_SYSTEM: UTM
COORDINATE_ZONE: 13
HORIZONTAL_UNITS: METERS
HORIZONTAL_RESOLUTION: 1.00000
SECONDARY_HORIZONTAL_DATUM: NAD27
XY_ORIGIN: 321423.00000 5291549.00000
SECONDARY_XY_ORIGIN: 321466.29400 5291328.23900
NATION: US
NATION: "SCIENCE
STATE: MT
NW_QUAD_CORNER_XY: 321986.26300 5291246.13500
NE_QUAD_CORNER_XY: 326670.59100 5291104.21600
SE_QUAD_CORNERY_XY: 326463.07100 5284158.47300
SW_QUAD_CORNER_XY: 321773.13000 5284300.42100
SECONDARY_NW_QUAD_XY: 321980.69000 5291027.40600
SECONDARY_NE_QUAD_XY: 326665.16400 5290885.48300
SECONDARY_SE_QUAD_XY: 326457.64400 5283939.75900
SECONDARY_SW_QUAD_XY: 321767.55700 5284081.71100
RMSE_XY: 2.50000
IMAGE_SOURCE: BLACK AND WHITE FILM
SOURCE_IMAGE_ID: NAPP 9127 073
SOURCE_IMAGE_DATE: 1996 07 15
SOURCE_IMAGE_ID: NAPP 9127 074
SOURCE_IMAGE_DATE: 1996 07 15
SOURCE_IMAGE_ID: NAPP 9127 043
SOURCE_IMAGE_DATE: 1996 07 15
SOURCE_DEM_DATE: 1970 00 00
AGENCY: WESTERN MAPPING CENTER (WMC)
PRODUCER: UNDEFINED
PRODUCTION_SYSTEM: GIS/MAGIC
COMPRESSION: UNDEFINED
STANDARD_VERSION: 1996 12
METADATA_DATE: 2000 11 17
DATA_FILE_SIZE: 42694006
BYTE_COUNT: 5549
