FILENAME: O4710718.NWS.1112687.tif
QUADRANGLE_NAME: INDIAN LAKE
QUADRANT: NW
WEST_LONGITUDE: -107 52 30.00000
EAST_LONGITUDE: -107 48 45.00000
NORTH_LATITUDE: 47 45 0.00000
SOUTH_LATITUDE: 47 41 15.00000
PRODUCTION_DATE: 2000 11 6
RASTER_ORDER: LEFT_RIGHT/TOP_BOTTOM
BAND_ORGANIZATION: SINGLE FILE
BAND_CONTENT: BLACK&WHITE
BAND_CONTENT: UNDEFINED
BAND_CONTENT: UNDEFINED
BITS_PER_PIXEL: 8
SAMPLES_AND_LINES: 5595 7722
HORIZONTAL_DATUM: NAD83
HORIZONTAL_COORDINATE_SYSTEM: UTM
COORDINATE_ZONE: 13
HORIZONTAL_UNITS: METERS
HORIZONTAL_RESOLUTION: 1.00000
SECONDARY_HORIZONTAL_DATUM: NAD27
XY_ORIGIN: 283903.00000 5292820.00000
SECONDARY_XY_ORIGIN: 283946.50200 5292599.72300
NATION: US
NATION: "SCIENCE
STATE: MT
NW_QUAD_CORNER_XY: 284512.42000 5292517.88700
NE_QUAD_CORNER_XY: 289196.57000 5292345.65300
SE_QUAD_CORNERY_XY: 288944.12400 5285400.16700
SW_QUAD_CORNER_XY: 284254.35600 5285572.43600
SECONDARY_NW_QUAD_XY: 284505.67200 5292299.19800
SECONDARY_NE_QUAD_XY: 289189.96900 5292126.95900
SECONDARY_SE_QUAD_XY: 288937.52400 5285181.49100
SECONDARY_SW_QUAD_XY: 284247.61000 5285353.76500
RMSE_XY: 1.20000
IMAGE_SOURCE: BLACK AND WHITE FILM
SOURCE_IMAGE_ID: NAPP 9132 078
SOURCE_IMAGE_DATE: 1996 07 29
SOURCE_DEM_DATE: 1964 00 00
AGENCY: WESTERN MAPPING CENTER (WMC)
PRODUCER: UNDEFINED
PRODUCTION_SYSTEM: GIS/MAGIC
COMPRESSION: UNDEFINED
STANDARD_VERSION: 1996 12
METADATA_DATE: 2000 11 15
DATA_FILE_SIZE: 43210185
BYTE_COUNT: 5595
