FILENAME: O4710714.NES.1114980.tif
QUADRANGLE_NAME: SMITH COULEE
QUADRANT: NE
WEST_LONGITUDE: -107 18 45.00000
EAST_LONGITUDE: -107 15 0.00000
NORTH_LATITUDE: 47 52 30.00000
SOUTH_LATITUDE: 47 48 45.00000
PRODUCTION_DATE: 2000 11 10
RASTER_ORDER: LEFT_RIGHT/TOP_BOTTOM
BAND_ORGANIZATION: SINGLE FILE
BAND_CONTENT: BLACK&WHITE
BAND_CONTENT: UNDEFINED
BAND_CONTENT: UNDEFINED
BITS_PER_PIXEL: 8
SAMPLES_AND_LINES: 5533 7689
HORIZONTAL_DATUM: NAD83
HORIZONTAL_COORDINATE_SYSTEM: UTM
COORDINATE_ZONE: 13
HORIZONTAL_UNITS: METERS
HORIZONTAL_RESOLUTION: 1.00000
SECONDARY_HORIZONTAL_DATUM: NAD27
XY_ORIGIN: 326528.00000 5305298.00000
SECONDARY_XY_ORIGIN: 326571.11700 5305077.30600
NATION: US
NATION: "SCIENCE
STATE: MT
NW_QUAD_CORNER_XY: 327086.25200 5304995.89300
NE_QUAD_CORNER_XY: 331759.35500 5304857.82100
SE_QUAD_CORNERY_XY: 331557.04500 5297911.92100
SW_QUAD_CORNER_XY: 326878.31800 5298050.02300
SECONDARY_NW_QUAD_XY: 327080.82400 5304777.12500
SECONDARY_NE_QUAD_XY: 331754.07400 5304639.04900
SECONDARY_SE_QUAD_XY: 331551.76400 5297693.16600
SECONDARY_SW_QUAD_XY: 326872.89000 5297831.27200
RMSE_XY: 2.00000
IMAGE_SOURCE: BLACK AND WHITE FILM
SOURCE_IMAGE_ID: NAPP 9127 038
SOURCE_IMAGE_DATE: 1996 07 15
SOURCE_DEM_DATE: 1972 00 00
AGENCY: WESTERN MAPPING CENTER (WMC)
PRODUCER: UNDEFINED
PRODUCTION_SYSTEM: GIS/MAGIC
COMPRESSION: UNDEFINED
STANDARD_VERSION: 1996 12
METADATA_DATE: 2000 11 17
DATA_FILE_SIZE: 42548770
BYTE_COUNT: 5533
