FILENAME: O4710713.SWS.1116733.tif
QUADRANGLE_NAME: WHISKEY COULEE
QUADRANT: SW
WEST_LONGITUDE: -107 30 0.00000
EAST_LONGITUDE: -107 26 15.00000
NORTH_LATITUDE: 47 48 45.00000
SOUTH_LATITUDE: 47 45 0.00000
PRODUCTION_DATE: 2000 11 14
RASTER_ORDER: LEFT_RIGHT/TOP_BOTTOM
BAND_ORGANIZATION: SINGLE FILE
BAND_CONTENT: BLACK&WHITE
BAND_CONTENT: UNDEFINED
BAND_CONTENT: UNDEFINED
BITS_PER_PIXEL: 8
SAMPLES_AND_LINES: 5555 7700
HORIZONTAL_DATUM: NAD83
HORIZONTAL_COORDINATE_SYSTEM: UTM
COORDINATE_ZONE: 13
HORIZONTAL_UNITS: METERS
HORIZONTAL_RESOLUTION: 1.00000
SECONDARY_HORIZONTAL_DATUM: NAD27
XY_ORIGIN: 312267.00000 5298789.00000
SECONDARY_XY_ORIGIN: 312310.50900 5298568.51800
NATION: US
NATION: "SCIENCE
STATE: MT
NW_QUAD_CORNER_XY: 312842.25800 5298487.05100
NE_QUAD_CORNER_XY: 317520.92400 5298337.58700
SE_QUAD_CORNERY_XY: 317301.95700 5291391.84100
SW_QUAD_CORNER_XY: 312617.67000 5291541.33700
SECONDARY_NW_QUAD_XY: 312836.39000 5298268.31400
SECONDARY_NE_QUAD_XY: 317515.20300 5298118.84500
SECONDARY_SE_QUAD_XY: 317296.23600 5291173.11700
SECONDARY_SW_QUAD_XY: 312611.80300 5291322.61700
RMSE_XY: 2.40000
IMAGE_SOURCE: BLACK AND WHITE FILM
SOURCE_IMAGE_ID: NAPP 9127 181
SOURCE_IMAGE_DATE: 1996 07 15
SOURCE_IMAGE_ID: NAPP 9127 180
SOURCE_IMAGE_DATE: 1996 07 15
SOURCE_DEM_DATE: 1972 00 00
AGENCY: WESTERN MAPPING CENTER (WMC)
PRODUCER: UNDEFINED
PRODUCTION_SYSTEM: GIS/MAGIC
COMPRESSION: UNDEFINED
STANDARD_VERSION: 1996 12
METADATA_DATE: 2000 11 30
DATA_FILE_SIZE: 42779055
BYTE_COUNT: 5555
