FILENAME: O4710705.SES.1116744.tif
QUADRANGLE_NAME: WHITE HORSE COULEE
QUADRANT: SE
WEST_LONGITUDE: -107 26 15.00000
EAST_LONGITUDE: -107 22 30.00000
NORTH_LATITUDE: 47 56 15.00000
SOUTH_LATITUDE: 47 52 30.00000
PRODUCTION_DATE: 2000 11 14
RASTER_ORDER: LEFT_RIGHT/TOP_BOTTOM
BAND_ORGANIZATION: SINGLE FILE
BAND_CONTENT: BLACK&WHITE
BAND_CONTENT: UNDEFINED
BAND_CONTENT: UNDEFINED
BITS_PER_PIXEL: 8
SAMPLES_AND_LINES: 5538 7696
HORIZONTAL_DATUM: NAD83
HORIZONTAL_COORDINATE_SYSTEM: UTM
COORDINATE_ZONE: 13
HORIZONTAL_UNITS: METERS
HORIZONTAL_RESOLUTION: 1.00000
SECONDARY_HORIZONTAL_DATUM: NAD27
XY_ORIGIN: 317390.00000 5312531.00000
SECONDARY_XY_ORIGIN: 317433.38800 5312310.60800
NATION: US
NATION: "SCIENCE
STATE: MT
NW_QUAD_CORNER_XY: 317959.51300 5312229.26600
NE_QUAD_CORNER_XY: 322626.94300 5312083.65300
SE_QUAD_CORNERY_XY: 322413.17000 5305137.75100
SW_QUAD_CORNER_XY: 317740.10900 5305283.39500
SECONDARY_NW_QUAD_XY: 317953.79100 5312010.49100
SECONDARY_NE_QUAD_XY: 322621.36800 5311864.87400
SECONDARY_SE_QUAD_XY: 322407.59600 5304918.98700
SECONDARY_SW_QUAD_XY: 317734.38800 5305064.63600
RMSE_XY: 1.40000
IMAGE_SOURCE: BLACK AND WHITE FILM
SOURCE_IMAGE_ID: NAPP 9127 142
SOURCE_IMAGE_DATE: 1996 07 15
SOURCE_DEM_DATE: 1972 00 00
AGENCY: WESTERN MAPPING CENTER (WMC)
PRODUCER: UNDEFINED
PRODUCTION_SYSTEM: GIS/MAGIC
COMPRESSION: UNDEFINED
STANDARD_VERSION: 1996 12
METADATA_DATE: 2000 11 15
DATA_FILE_SIZE: 42625986
BYTE_COUNT: 5538
