FILENAME: O4710703.SES.1116648.tif
QUADRANGLE_NAME: SHEEP COULEE
QUADRANT: SE
WEST_LONGITUDE: -107 41 15.00000
EAST_LONGITUDE: -107 37 30.00000
NORTH_LATITUDE: 47 56 15.00000
SOUTH_LATITUDE: 47 52 30.00000
PRODUCTION_DATE: 2000 11 6
RASTER_ORDER: LEFT_RIGHT/TOP_BOTTOM
BAND_ORGANIZATION: SINGLE FILE
BAND_CONTENT: BLACK&WHITE
BAND_CONTENT: UNDEFINED
BAND_CONTENT: UNDEFINED
BITS_PER_PIXEL: 8
SAMPLES_AND_LINES: 5562 7711
HORIZONTAL_DATUM: NAD83
HORIZONTAL_COORDINATE_SYSTEM: UTM
COORDINATE_ZONE: 13
HORIZONTAL_UNITS: METERS
HORIZONTAL_RESOLUTION: 1.00000
SECONDARY_HORIZONTAL_DATUM: NAD27
XY_ORIGIN: 298697.00000 5313152.00000
SECONDARY_XY_ORIGIN: 298740.53000 5312931.78700
NATION: US
NATION: "SCIENCE
STATE: MT
NW_QUAD_CORNER_XY: 299290.02100 5312849.58000
NE_QUAD_CORNER_XY: 303957.35900 5312688.82100
SE_QUAD_CORNERY_XY: 303721.05800 5305743.05200
SW_QUAD_CORNER_XY: 299048.08700 5305903.84600
SECONDARY_NW_QUAD_XY: 299283.71200 5312630.82400
SECONDARY_NE_QUAD_XY: 303951.19700 5312470.06100
SECONDARY_SE_QUAD_XY: 303714.89700 5305524.30800
SECONDARY_SW_QUAD_XY: 299041.77900 5305685.10700
RMSE_XY: 0.60000
IMAGE_SOURCE: BLACK AND WHITE FILM
SOURCE_IMAGE_ID: NAPP 9131 098
SOURCE_IMAGE_DATE: 1996 07 29
SOURCE_DEM_DATE: 1965 00 00
AGENCY: WESTERN MAPPING CENTER (WMC)
PRODUCER: UNDEFINED
PRODUCTION_SYSTEM: GIS/MAGIC
COMPRESSION: UNDEFINED
STANDARD_VERSION: 1996 12
METADATA_DATE: 2000 11 15
DATA_FILE_SIZE: 42894144
BYTE_COUNT: 5562
