FILENAME: O4710861.NWS.1118239.tif
QUADRANGLE_NAME: LITTLE BEAR LAKE
QUADRANT: NW
WEST_LONGITUDE: -108 30 0.00000
EAST_LONGITUDE: -108 26 15.00000
NORTH_LATITUDE: 47 7 30.00000
SOUTH_LATITUDE: 47 3 45.00000
PRODUCTION_DATE: 2000 10 30
RASTER_ORDER: LEFT_RIGHT/TOP_BOTTOM
BAND_ORGANIZATION: SINGLE FILE
BAND_CONTENT: BLACK&WHITE
BAND_CONTENT: UNDEFINED
BAND_CONTENT: UNDEFINED
BITS_PER_PIXEL: 8
SAMPLES_AND_LINES: 5623 7706
HORIZONTAL_DATUM: NAD83
HORIZONTAL_COORDINATE_SYSTEM: UTM
COORDINATE_ZONE: 12
HORIZONTAL_UNITS: METERS
HORIZONTAL_RESOLUTION: 1.00000
SECONDARY_HORIZONTAL_DATUM: NAD27
XY_ORIGIN: 689262.00000 5222542.00000
SECONDARY_XY_ORIGIN: 689320.04400 5222327.23200
NATION: US
NATION: "SCIENCE
STATE: MT
NW_QUAD_CORNER_XY: 689615.82000 5222087.58400
NE_QUAD_CORNER_XY: 694355.98700 5222241.15200
SE_QUAD_CORNERY_XY: 694583.65100 5215296.14000
SW_QUAD_CORNER_XY: 689837.92500 5215142.54800
SECONDARY_NW_QUAD_XY: 689621.68000 5221869.08800
SECONDARY_NE_QUAD_XY: 694361.99400 5222022.66000
SECONDARY_SE_QUAD_XY: 694589.65700 5215077.67600
SECONDARY_SW_QUAD_XY: 689843.78400 5214924.07900
RMSE_XY: 1.00000
IMAGE_SOURCE: BLACK AND WHITE FILM
SOURCE_IMAGE_ID: NAPP 9137 190
SOURCE_IMAGE_DATE: 1996 08 23
SOURCE_DEM_DATE: 1975 00 00
AGENCY: WESTERN MAPPING CENTER (WMC)
PRODUCER: UNDEFINED
PRODUCTION_SYSTEM: GIS/MAGIC
COMPRESSION: UNDEFINED
STANDARD_VERSION: 1996 12
METADATA_DATE: 2000 11 14
DATA_FILE_SIZE: 43336461
BYTE_COUNT: 5623
