FILENAME: O4710854.NWS.1118263.tif
QUADRANGLE_NAME: DRY BLOOD CREEK EAST
QUADRANT: NW
WEST_LONGITUDE: -108 22 30.00000
EAST_LONGITUDE: -108 18 45.00000
NORTH_LATITUDE: 47 15 0.00000
SOUTH_LATITUDE: 47 11 15.00000
PRODUCTION_DATE: 2000 10 30
RASTER_ORDER: LEFT_RIGHT/TOP_BOTTOM
BAND_ORGANIZATION: SINGLE FILE
BAND_CONTENT: BLACK&WHITE
BAND_CONTENT: UNDEFINED
BAND_CONTENT: UNDEFINED
BITS_PER_PIXEL: 8
SAMPLES_AND_LINES: 5623 7712
HORIZONTAL_DATUM: NAD83
HORIZONTAL_COORDINATE_SYSTEM: UTM
COORDINATE_ZONE: 12
HORIZONTAL_UNITS: METERS
HORIZONTAL_RESOLUTION: 1.00000
SECONDARY_HORIZONTAL_DATUM: NAD27
XY_ORIGIN: 698276.00000 5236750.00000
SECONDARY_XY_ORIGIN: 698333.87900 5236534.60600
NATION: US
NATION: "SCIENCE
STATE: MT
NW_QUAD_CORNER_XY: 698628.97500 5236288.67000
NE_QUAD_CORNER_XY: 703357.97000 5236449.77700
SE_QUAD_CORNERY_XY: 703597.24100 5229504.69700
SW_QUAD_CORNER_XY: 698862.67500 5229343.56200
SECONDARY_NW_QUAD_XY: 698635.13000 5236070.13200
SECONDARY_NE_QUAD_XY: 703364.27100 5236231.24400
SECONDARY_SE_QUAD_XY: 703603.54200 5229286.18900
SECONDARY_SW_QUAD_XY: 698868.82900 5229125.05000
RMSE_XY: 1.50000
IMAGE_SOURCE: BLACK AND WHITE FILM
SOURCE_IMAGE_ID: NAPP 9137 040
SOURCE_IMAGE_DATE: 1996 08 23
SOURCE_IMAGE_ID: NAPP 9144 010
SOURCE_IMAGE_DATE: 1996 08 25
SOURCE_IMAGE_ID: NAPP 9143 279
SOURCE_IMAGE_DATE: 1996 08 24
SOURCE_DEM_DATE: 1986 00 00
AGENCY: WESTERN MAPPING CENTER (WMC)
PRODUCER: UNDEFINED
PRODUCTION_SYSTEM: GIS/MAGIC
COMPRESSION: UNDEFINED
STANDARD_VERSION: 1996 12
METADATA_DATE: 2000 11 14
DATA_FILE_SIZE: 43370199
BYTE_COUNT: 5623
