FILENAME: O4710853.SES.1118236.tif
QUADRANGLE_NAME: DRY BLOOD CREEK WEST
QUADRANT: SE
WEST_LONGITUDE: -108 26 15.00000
EAST_LONGITUDE: -108 22 30.00000
NORTH_LATITUDE: 47 11 15.00000
SOUTH_LATITUDE: 47 7 30.00000
PRODUCTION_DATE: 2000 10 30
RASTER_ORDER: LEFT_RIGHT/TOP_BOTTOM
BAND_ORGANIZATION: SINGLE FILE
BAND_CONTENT: BLACK&WHITE
BAND_CONTENT: UNDEFINED
BAND_CONTENT: UNDEFINED
BITS_PER_PIXEL: 8
SAMPLES_AND_LINES: 5623 7709
HORIZONTAL_DATUM: NAD83
HORIZONTAL_COORDINATE_SYSTEM: UTM
COORDINATE_ZONE: 12
HORIZONTAL_UNITS: METERS
HORIZONTAL_RESOLUTION: 1.00000
SECONDARY_HORIZONTAL_DATUM: NAD27
XY_ORIGIN: 693775.00000 5229644.00000
SECONDARY_XY_ORIGIN: 693832.98000 5229428.91300
NATION: US
NATION: "SCIENCE
STATE: MT
NW_QUAD_CORNER_XY: 694128.09100 5229186.22400
NE_QUAD_CORNER_XY: 698862.67500 5229343.56200
SE_QUAD_CORNERY_XY: 699096.13700 5222398.51500
SW_QUAD_CORNER_XY: 694355.98700 5222241.15200
SECONDARY_NW_QUAD_XY: 694134.09800 5228967.70700
SECONDARY_NE_QUAD_XY: 698868.82900 5229125.05000
SECONDARY_SE_QUAD_XY: 699102.29000 5222180.02900
SECONDARY_SW_QUAD_XY: 694361.99400 5222022.66000
RMSE_XY: 1.70000
IMAGE_SOURCE: BLACK AND WHITE FILM
SOURCE_IMAGE_ID: NAPP 9137 181
SOURCE_IMAGE_DATE: 1996 08 23
SOURCE_DEM_DATE: 1975 00 00
AGENCY: WESTERN MAPPING CENTER (WMC)
PRODUCER: UNDEFINED
PRODUCTION_SYSTEM: GIS/MAGIC
COMPRESSION: UNDEFINED
STANDARD_VERSION: 1996 12
METADATA_DATE: 2000 11 14
DATA_FILE_SIZE: 43353330
BYTE_COUNT: 5623
