FILENAME: O4710853.SWS.1118237.tif
QUADRANGLE_NAME: DRY BLOOD CREEK WEST
QUADRANT: SW
WEST_LONGITUDE: -108 30 0.00000
EAST_LONGITUDE: -108 26 15.00000
NORTH_LATITUDE: 47 11 15.00000
SOUTH_LATITUDE: 47 7 30.00000
PRODUCTION_DATE: 2000 10 30
RASTER_ORDER: LEFT_RIGHT/TOP_BOTTOM
BAND_ORGANIZATION: SINGLE FILE
BAND_CONTENT: BLACK&WHITE
BAND_CONTENT: UNDEFINED
BAND_CONTENT: UNDEFINED
BITS_PER_PIXEL: 8
SAMPLES_AND_LINES: 5617 7706
HORIZONTAL_DATUM: NAD83
HORIZONTAL_COORDINATE_SYSTEM: UTM
COORDINATE_ZONE: 12
HORIZONTAL_UNITS: METERS
HORIZONTAL_RESOLUTION: 1.00000
SECONDARY_HORIZONTAL_DATUM: NAD27
XY_ORIGIN: 689040.00000 5229487.00000
SECONDARY_XY_ORIGIN: 689098.04500 5229272.00700
NATION: US
NATION: "SCIENCE
STATE: MT
NW_QUAD_CORNER_XY: 689393.48900 5229032.68200
NE_QUAD_CORNER_XY: 694128.09100 5229186.22400
SE_QUAD_CORNERY_XY: 694355.98700 5222241.15200
SW_QUAD_CORNER_XY: 689615.82000 5222087.58400
SECONDARY_NW_QUAD_XY: 689399.35000 5228814.16000
SECONDARY_NE_QUAD_XY: 694134.09800 5228967.70700
SECONDARY_SE_QUAD_XY: 694361.99400 5222022.66000
SECONDARY_SW_QUAD_XY: 689621.68000 5221869.08800
RMSE_XY: 1.20000
IMAGE_SOURCE: BLACK AND WHITE FILM
SOURCE_IMAGE_ID: NAPP 9137 188
SOURCE_IMAGE_DATE: 1996 08 23
SOURCE_DEM_DATE: 1975 00 00
AGENCY: WESTERN MAPPING CENTER (WMC)
PRODUCER: UNDEFINED
PRODUCTION_SYSTEM: GIS/MAGIC
COMPRESSION: UNDEFINED
STANDARD_VERSION: 1996 12
METADATA_DATE: 2000 11 14
DATA_FILE_SIZE: 43290219
BYTE_COUNT: 5617
