FILENAME: O4710851.SWS.1118072.tif
QUADRANGLE_NAME: TEIGEN NW
QUADRANT: SW
WEST_LONGITUDE: -108 45 0.00000
EAST_LONGITUDE: -108 41 15.00000
NORTH_LATITUDE: 47 11 15.00000
SOUTH_LATITUDE: 47 7 30.00000
PRODUCTION_DATE: 2000 11 2
RASTER_ORDER: LEFT_RIGHT/TOP_BOTTOM
BAND_ORGANIZATION: SINGLE FILE
BAND_CONTENT: BLACK&WHITE
BAND_CONTENT: UNDEFINED
BAND_CONTENT: UNDEFINED
BITS_PER_PIXEL: 8
SAMPLES_AND_LINES: 5597 7690
HORIZONTAL_DATUM: NAD83
HORIZONTAL_COORDINATE_SYSTEM: UTM
COORDINATE_ZONE: 12
HORIZONTAL_UNITS: METERS
HORIZONTAL_RESOLUTION: 1.00000
SECONDARY_HORIZONTAL_DATUM: NAD27
XY_ORIGIN: 670100.00000 5228895.00000
SECONDARY_XY_ORIGIN: 670158.29000 5228680.41100
NATION: US
NATION: "SCIENCE
STATE: MT
NW_QUAD_CORNER_XY: 670454.91500 5228456.46300
NE_QUAD_CORNER_XY: 675189.58200 5228594.82600
SE_QUAD_CORNERY_XY: 675395.22200 5221649.65700
SW_QUAD_CORNER_XY: 670654.99200 5221511.27200
SECONDARY_NW_QUAD_XY: 670460.18900 5228237.92300
SECONDARY_NE_QUAD_XY: 675195.00300 5228376.29000
SECONDARY_SE_QUAD_XY: 675400.64300 5221431.14700
SECONDARY_SW_QUAD_XY: 670660.26500 5221292.75800
RMSE_XY: 0.80000
IMAGE_SOURCE: BLACK AND WHITE FILM
SOURCE_IMAGE_ID: NAPP 9140 051
SOURCE_IMAGE_DATE: 1996 08 23
SOURCE_DEM_DATE: 1982 00 00
AGENCY: WESTERN MAPPING CENTER (WMC)
PRODUCER: UNDEFINED
PRODUCTION_SYSTEM: GIS/MAGIC
COMPRESSION: UNDEFINED
STANDARD_VERSION: 1996 12
METADATA_DATE: 2000 11 14
DATA_FILE_SIZE: 43046527
BYTE_COUNT: 5597
