FILENAME: O4710843.SWS.1118068.tif
QUADRANGLE_NAME: BEAR CREEK RESERVOIR
QUADRANT: SW
WEST_LONGITUDE: -108 45 0.00000
EAST_LONGITUDE: -108 41 15.00000
NORTH_LATITUDE: 47 18 45.00000
SOUTH_LATITUDE: 47 15 0.00000
PRODUCTION_DATE: 2000 11 2
RASTER_ORDER: LEFT_RIGHT/TOP_BOTTOM
BAND_ORGANIZATION: SINGLE FILE
BAND_CONTENT: BLACK&WHITE
BAND_CONTENT: UNDEFINED
BAND_CONTENT: UNDEFINED
BITS_PER_PIXEL: 8
SAMPLES_AND_LINES: 5585 7691
HORIZONTAL_DATUM: NAD83
HORIZONTAL_COORDINATE_SYSTEM: UTM
COORDINATE_ZONE: 12
HORIZONTAL_UNITS: METERS
HORIZONTAL_RESOLUTION: 1.00000
SECONDARY_HORIZONTAL_DATUM: NAD27
XY_ORIGIN: 669700.00000 5242786.00000
SECONDARY_XY_ORIGIN: 669758.40200 5242570.98300
NATION: US
NATION: "SCIENCE
STATE: MT
NW_QUAD_CORNER_XY: 670054.14800 5242347.04000
NE_QUAD_CORNER_XY: 674777.67300 5242485.35500
SE_QUAD_CORNERY_XY: 674983.73200 5235540.05900
SW_QUAD_CORNER_XY: 670254.63300 5235401.71900
SECONDARY_NW_QUAD_XY: 670059.42400 5242128.45000
SECONDARY_NE_QUAD_XY: 674783.09600 5242266.77000
SECONDARY_SE_QUAD_XY: 674989.15400 5235321.49800
SECONDARY_SW_QUAD_XY: 670259.90900 5235183.15400
RMSE_XY: 1.20000
IMAGE_SOURCE: BLACK AND WHITE FILM
SOURCE_IMAGE_ID: NAPP 9163 033
SOURCE_IMAGE_DATE: 1998 07 23
SOURCE_IMAGE_ID: NAPP 9163 032
SOURCE_IMAGE_DATE: 1998 07 23
SOURCE_DEM_DATE: 1978 00 00
AGENCY: WESTERN MAPPING CENTER (WMC)
PRODUCER: UNDEFINED
PRODUCTION_SYSTEM: GIS/MAGIC
COMPRESSION: UNDEFINED
STANDARD_VERSION: 1996 12
METADATA_DATE: 2000 11 14
DATA_FILE_SIZE: 42959820
BYTE_COUNT: 5585
