FILENAME: O4710836.NWS.1118231.tif
QUADRANGLE_NAME: KACHIA RESERVOIR
QUADRANT: NW
WEST_LONGITUDE: -108 37 30.00000
EAST_LONGITUDE: -108 33 45.00000
NORTH_LATITUDE: 47 30 0.00000
SOUTH_LATITUDE: 47 26 15.00000
PRODUCTION_DATE: 2000 10 27
RASTER_ORDER: LEFT_RIGHT/TOP_BOTTOM
BAND_ORGANIZATION: SINGLE FILE
BAND_CONTENT: BLACK&WHITE
BAND_CONTENT: UNDEFINED
BAND_CONTENT: UNDEFINED
BITS_PER_PIXEL: 8
SAMPLES_AND_LINES: 5580 7697
HORIZONTAL_DATUM: NAD83
HORIZONTAL_COORDINATE_SYSTEM: UTM
COORDINATE_ZONE: 12
HORIZONTAL_UNITS: METERS
HORIZONTAL_RESOLUTION: 1.00000
SECONDARY_HORIZONTAL_DATUM: NAD27
XY_ORIGIN: 678511.00000 5263910.00000
SECONDARY_XY_ORIGIN: 678569.34200 5263694.17700
NATION: US
NATION: "SCIENCE
STATE: MT
NW_QUAD_CORNER_XY: 678864.99000 5263463.65900
NE_QUAD_CORNER_XY: 683571.72100 5263609.48200
SE_QUAD_CORNERY_XY: 683789.59100 5256664.04700
SW_QUAD_CORNER_XY: 679077.26800 5256518.19800
SECONDARY_NW_QUAD_XY: 678870.56100 5263245.00900
SECONDARY_NE_QUAD_XY: 683577.43900 5263390.83700
SECONDARY_SE_QUAD_XY: 683795.30900 5256445.42400
SECONDARY_SW_QUAD_XY: 679082.83900 5256299.57000
RMSE_XY: 1.70000
IMAGE_SOURCE: BLACK AND WHITE FILM
SOURCE_IMAGE_ID: NAPP 9138 186
SOURCE_IMAGE_DATE: 1996 08 23
SOURCE_IMAGE_ID: NAPP 9138 185
SOURCE_IMAGE_DATE: 1996 08 23
SOURCE_DEM_DATE: 1978 00 00
AGENCY: WESTERN MAPPING CENTER (WMC)
PRODUCER: UNDEFINED
PRODUCTION_SYSTEM: GIS/MAGIC
COMPRESSION: UNDEFINED
STANDARD_VERSION: 1996 12
METADATA_DATE: 2000 11 14
DATA_FILE_SIZE: 42954840
BYTE_COUNT: 5580
