FILENAME: O4710830.SES.1114580.tif
QUADRANGLE_NAME: HANSON FLAT
QUADRANT: SE
WEST_LONGITUDE: -108 18 45.00000
EAST_LONGITUDE: -108 15 0.00000
NORTH_LATITUDE: 47 33 45.00000
SOUTH_LATITUDE: 47 30 0.00000
PRODUCTION_DATE: 2000 10 30
RASTER_ORDER: LEFT_RIGHT/TOP_BOTTOM
BAND_ORGANIZATION: SINGLE FILE
BAND_CONTENT: BLACK&WHITE
BAND_CONTENT: UNDEFINED
BAND_CONTENT: UNDEFINED
BITS_PER_PIXEL: 8
SAMPLES_AND_LINES: 5602 7715
HORIZONTAL_DATUM: NAD83
HORIZONTAL_COORDINATE_SYSTEM: UTM
COORDINATE_ZONE: 12
HORIZONTAL_UNITS: METERS
HORIZONTAL_RESOLUTION: 1.00000
SECONDARY_HORIZONTAL_DATUM: NAD27
XY_ORIGIN: 701805.00000 5271641.00000
SECONDARY_XY_ORIGIN: 701862.65700 5271424.66900
NATION: US
NATION: "SCIENCE
STATE: MT
NW_QUAD_CORNER_XY: 702157.96700 5271176.06900
NE_QUAD_CORNER_XY: 706858.99800 5271340.82200
SE_QUAD_CORNERY_XY: 707105.08400 5264395.47600
SW_QUAD_CORNER_XY: 702398.45300 5264230.69200
SECONDARY_NW_QUAD_XY: 702164.27200 5270957.42200
SECONDARY_NE_QUAD_XY: 706865.45000 5271122.18000
SECONDARY_SE_QUAD_XY: 707111.53500 5264176.85600
SECONDARY_SW_QUAD_XY: 702404.75700 5264012.06600
RMSE_XY: 1.50000
IMAGE_SOURCE: BLACK AND WHITE FILM
SOURCE_IMAGE_ID: NAPP 9143 207
SOURCE_IMAGE_DATE: 1996 08 24
SOURCE_DEM_DATE: 1970 00 00
AGENCY: WESTERN MAPPING CENTER (WMC)
PRODUCER: UNDEFINED
PRODUCTION_SYSTEM: GIS/MAGIC
COMPRESSION: UNDEFINED
STANDARD_VERSION: 1996 12
METADATA_DATE: 2000 11 30
DATA_FILE_SIZE: 43225032
BYTE_COUNT: 5602
