FILENAME: O4710820.SWS.1112817.tif
QUADRANGLE_NAME: BELL RIDGE EAST
QUADRANT: SW
WEST_LONGITUDE: -108 37 30.00000
EAST_LONGITUDE: -108 33 45.00000
NORTH_LATITUDE: 47 41 15.00000
SOUTH_LATITUDE: 47 37 30.00000
PRODUCTION_DATE: 2000 11 9
RASTER_ORDER: LEFT_RIGHT/TOP_BOTTOM
BAND_ORGANIZATION: SINGLE FILE
BAND_CONTENT: BLACK&WHITE
BAND_CONTENT: UNDEFINED
BAND_CONTENT: UNDEFINED
BITS_PER_PIXEL: 8
SAMPLES_AND_LINES: 5565 7697
HORIZONTAL_DATUM: NAD83
HORIZONTAL_COORDINATE_SYSTEM: UTM
COORDINATE_ZONE: 12
HORIZONTAL_UNITS: METERS
HORIZONTAL_RESOLUTION: 1.00000
SECONDARY_HORIZONTAL_DATUM: NAD27
XY_ORIGIN: 677872.00000 5284747.00000
SECONDARY_XY_ORIGIN: 677930.51300 5284530.77100
NATION: US
NATION: "SCIENCE
STATE: MT
NW_QUAD_CORNER_XY: 678226.87000 5284300.42100
NE_QUAD_CORNER_XY: 682916.79200 5284446.15800
SE_QUAD_CORNERY_XY: 683135.32100 5277500.53700
SW_QUAD_CORNER_XY: 678439.79100 5277354.77100
SECONDARY_NW_QUAD_XY: 678232.44300 5284081.71100
SECONDARY_NE_QUAD_XY: 682922.51200 5284227.45200
SECONDARY_SE_QUAD_XY: 683141.04000 5277281.85100
SECONDARY_SW_QUAD_XY: 678445.36300 5277136.08000
RMSE_XY: 2.50000
IMAGE_SOURCE: BLACK AND WHITE FILM
SOURCE_IMAGE_ID: NAPP 9138 180
SOURCE_IMAGE_DATE: 1996 08 23
SOURCE_DEM_DATE: 1952 00 00
AGENCY: WESTERN MAPPING CENTER (WMC)
PRODUCER: UNDEFINED
PRODUCTION_SYSTEM: GIS/MAGIC
COMPRESSION: UNDEFINED
STANDARD_VERSION: 1996 12
METADATA_DATE: 2000 11 13
DATA_FILE_SIZE: 42839370
BYTE_COUNT: 5565
